BEGIN:VCALENDAR
VERSION:2.0
PRODID:-//archive.cryptologicfoundation.org//NONSGML kigkonsult.se iCalcrea
 tor 2.30.10//
CALSCALE:GREGORIAN
METHOD:PUBLISH
UID:bd8ae96f-1164-43aa-8c91-14842202fce5
X-WR-CALDESC:1 April 1952: The U.S. Navy's cryptologic organization became 
 the Naval Security Group.
X-WR-RELCALID:b09eb8dc9fd19278272e3885ae5886ff
X-WR-TIMEZONE:America/New_York
BEGIN:VTIMEZONE
TZID:America/New_York
BEGIN:STANDARD
TZNAME:EST
DTSTART:20251102T020000
TZOFFSETFROM:-0400
TZOFFSETTO:-0500
RDATE:20261101T020000
END:STANDARD
BEGIN:DAYLIGHT
TZNAME:EDT
DTSTART:20260308T020000
TZOFFSETFROM:-0500
TZOFFSETTO:-0400
RDATE:20270314T020000
END:DAYLIGHT
END:VTIMEZONE
BEGIN:VEVENT
UID:c354b0bf-43c6-44e2-9284-2a5e207e74ea
DTSTAMP:20260424T061411Z
DESCRIPTION:1 April 1952: The U.S. Navy's cryptologic organization became t
 he Naval Security Group.
DTSTART;TZID=America/New_York:20260401T000000
DTEND;TZID=America/New_York:20260401T235900
LOCATION:
SUMMARY:1952: U.S. Navy's crypto org becomes Naval Security Group.
END:VEVENT
END:VCALENDAR
