BEGIN:VCALENDAR
VERSION:2.0
PRODID:-//archive.cryptologicfoundation.org//NONSGML kigkonsult.se iCalcrea
 tor 2.30.10//
CALSCALE:GREGORIAN
METHOD:PUBLISH
UID:d83e9ca9-42b3-4d86-8884-1ba6a10f7c66
X-WR-CALDESC:1 April 1981: Lt Gen Lincoln D. Faurer\, USAF\, (Ret) became D
 irector of the National Security Agency. Gen Faurer served as Director of 
 NSA and chief of the Central Security Service from 1981-1985. 'Linc' was a
 lso a past Chairman of the BoD of the NCMF. Gen Faurer passed away on Nove
 mber 7\, 2014 at the age of 86. A special funeral ceremony took place at A
 rlington National Cemetery in February 2015.\n\n'Linc' will always be miss
 ed by his friends at the Foundation. We are also very grateful for the don
 ation from Gen Faurer's family of $10\,000 to the Foundation. Gen Faurer's
  name is included on the In Memoriam Panel at the Museum and on our websit
 e. \n\nLearn more about Gen Faurer via the links below. \n\nYou can make a
  contribution honoring Gen Faurer in our In Memoriam Registry (see link be
 low) via our secure <a href='https://cryptologicfoundation.org/support-us/
 donate/give/'>Online Donation Page</a> or you can mail a donation in his n
 ame to the NCMF\, PO Box 1682\, Ft. George G. Meade\, Md 20755.  Those hon
 ored in the Memoriam Registry can be seen in the listing on our website (s
 ee link below) or viewed on the kiosk at the National Cryptologic Museum.
X-WR-RELCALID:fb6fce9f13a9ea13b566c6c7b1327f98
X-WR-TIMEZONE:America/New_York
BEGIN:VTIMEZONE
TZID:America/New_York
BEGIN:STANDARD
TZNAME:EST
DTSTART:20251102T020000
TZOFFSETFROM:-0400
TZOFFSETTO:-0500
RDATE:20261101T020000
END:STANDARD
BEGIN:DAYLIGHT
TZNAME:EDT
DTSTART:20260308T020000
TZOFFSETFROM:-0500
TZOFFSETTO:-0400
RDATE:20270314T020000
END:DAYLIGHT
END:VTIMEZONE
BEGIN:VEVENT
UID:706ce547-9bff-4385-a0b9-69d45c9f3a94
DTSTAMP:20260424T050946Z
DESCRIPTION:1 April 1981: Lt Gen Lincoln D. Faurer\, USAF\, (Ret) became Di
 rector of the National Security Agency. Gen Faurer served as Director of N
 SA and chief of the Central Security Service from 1981-1985. 'Linc' was al
 so a past Chairman of the BoD of the NCMF. Gen Faurer passed away on Novem
 ber 7\, 2014 at the age of 86. A special funeral ceremony took place at Ar
 lington National Cemetery in February 2015.\n\n'Linc' will always be misse
 d by his friends at the Foundation. We are also very grateful for the dona
 tion from Gen Faurer's family of $10\,000 to the Foundation. Gen Faurer's 
 name is included on the In Memoriam Panel at the Museum and on our website
 . \n\nLearn more about Gen Faurer via the links below. \n\nYou can make a 
 contribution honoring Gen Faurer in our In Memoriam Registry (see link bel
 ow) via our secure <a href='https://cryptologicfoundation.org/support-us/d
 onate/give/'>Online Donation Page</a> or you can mail a donation in his na
 me to the NCMF\, PO Box 1682\, Ft. George G. Meade\, Md 20755.  Those hono
 red in the Memoriam Registry can be seen in the listing on our website (se
 e link below) or viewed on the kiosk at the National Cryptologic Museum.
DTSTART;TZID=America/New_York:20260401T000000
DTEND;TZID=America/New_York:20260401T235900
LOCATION:
SUMMARY:1981: Lt Gen Lincoln D. Faurer\, USAF\, became Director of NSA.
END:VEVENT
END:VCALENDAR
