BEGIN:VCALENDAR
VERSION:2.0
PRODID:-//archive.cryptologicfoundation.org//NONSGML kigkonsult.se iCalcrea
 tor 2.30.10//
CALSCALE:GREGORIAN
METHOD:PUBLISH
UID:2c942275-a994-4c49-8043-bfc83c8ccdd5
X-WR-CALDESC:1 April 2001: The Hainan Island incident occurred when a mid-a
 ir collision between a United States Navy EP-3E ARIES II signals intellige
 nce aircraft and a People's Liberation Army Navy (PLAN) J-8II interceptor 
 fighter jet resulted in an international dispute between the United States
  of America and the People's Republic of China.\n\nThe EP-3 was operating 
 about 70 miles (110 km) away from the PRC island province of Hainan\, and 
 about 100 miles (160 km) away from the Chinese military installation in th
 e Paracel Islands\, when it was intercepted by two J-8 fighters. A collisi
 on between the EP-3 and one of the J-8s caused the death of a PRC pilot\, 
 and the EP-3 was forced to make an emergency landing on Hainan. The 24 cre
 w members were detained and interrogated by the Chinese authorities until 
 a statement was delivered by United States government regarding the incide
 nt. The exact phrasing of this document was intentionally ambiguous and al
 lowed both countries to save face while defusing a potentially volatile si
 tuation between militarily strong regional states.\n\n[Excerpted from Wiki
 pedia]
X-WR-RELCALID:0ff1955de581ad9562ab7d067c015bd2
X-WR-TIMEZONE:America/New_York
BEGIN:VTIMEZONE
TZID:America/New_York
BEGIN:STANDARD
TZNAME:EST
DTSTART:20251102T020000
TZOFFSETFROM:-0400
TZOFFSETTO:-0500
RDATE:20261101T020000
END:STANDARD
BEGIN:DAYLIGHT
TZNAME:EDT
DTSTART:20260308T020000
TZOFFSETFROM:-0500
TZOFFSETTO:-0400
RDATE:20270314T020000
END:DAYLIGHT
END:VTIMEZONE
BEGIN:VEVENT
UID:6f1e8008-fc32-48aa-a682-baf0e294059d
DTSTAMP:20260424T061606Z
DESCRIPTION:1 April 2001: The Hainan Island incident occurred when a mid-ai
 r collision between a United States Navy EP-3E ARIES II signals intelligen
 ce aircraft and a People's Liberation Army Navy (PLAN) J-8II interceptor f
 ighter jet resulted in an international dispute between the United States 
 of America and the People's Republic of China.\n\nThe EP-3 was operating a
 bout 70 miles (110 km) away from the PRC island province of Hainan\, and a
 bout 100 miles (160 km) away from the Chinese military installation in the
  Paracel Islands\, when it was intercepted by two J-8 fighters. A collisio
 n between the EP-3 and one of the J-8s caused the death of a PRC pilot\, a
 nd the EP-3 was forced to make an emergency landing on Hainan. The 24 crew
  members were detained and interrogated by the Chinese authorities until a
  statement was delivered by United States government regarding the inciden
 t. The exact phrasing of this document was intentionally ambiguous and all
 owed both countries to save face while defusing a potentially volatile sit
 uation between militarily strong regional states.\n\n[Excerpted from Wikip
 edia]
DTSTART;TZID=America/New_York:20260401T000000
DTEND;TZID=America/New_York:20260401T235900
LOCATION:
SUMMARY:2001: Hainan Island incident involving Navy EP-3
END:VEVENT
END:VCALENDAR
