BEGIN:VCALENDAR
VERSION:2.0
PRODID:-//archive.cryptologicfoundation.org//NONSGML kigkonsult.se iCalcrea
 tor 2.30.10//
CALSCALE:GREGORIAN
METHOD:PUBLISH
UID:8aee98f9-5736-4f5c-91bb-ba29dc538fdd
X-WR-CALDESC:1 April 2014: ADM Michael S. Rogers\, USN\, sworn in as Direct
 or\, NSA\, and Commander\, USCYBERCOM.
X-WR-RELCALID:a9f73c33c4f4b999a91c7b169dc91405
X-WR-TIMEZONE:America/New_York
BEGIN:VTIMEZONE
TZID:America/New_York
BEGIN:STANDARD
TZNAME:EST
DTSTART:20251102T020000
TZOFFSETFROM:-0400
TZOFFSETTO:-0500
RDATE:20261101T020000
END:STANDARD
BEGIN:DAYLIGHT
TZNAME:EDT
DTSTART:20260308T020000
TZOFFSETFROM:-0500
TZOFFSETTO:-0400
RDATE:20270314T020000
END:DAYLIGHT
END:VTIMEZONE
BEGIN:VEVENT
UID:860091a5-cab6-40f8-88cf-f945b5a83f33
DTSTAMP:20260424T065706Z
DESCRIPTION:1 April 2014: ADM Michael S. Rogers\, USN\, sworn in as Directo
 r\, NSA\, and Commander\, USCYBERCOM.
DTSTART;TZID=America/New_York:20260401T000000
DTEND;TZID=America/New_York:20260401T235900
LOCATION:
SUMMARY:2014: ADM Michael S. Rogers\, USN\, sworn in at NSA
END:VEVENT
END:VCALENDAR
