BEGIN:VCALENDAR
VERSION:2.0
PRODID:-//archive.cryptologicfoundation.org//NONSGML kigkonsult.se iCalcrea
 tor 2.30.10//
CALSCALE:GREGORIAN
METHOD:PUBLISH
UID:f5c7616e-c6b4-4d50-a762-ff309718b06a
X-WR-CALDESC:3 April 1973: Motorola engineer Marty Cooper (pictured here) m
 ade the first handheld cell phone call to Joel Engel\, a rival from the re
 search department at Bell Labs. Cooper made the call on a DynaTAC phone th
 at weighed in at about 2.2 pounds and was 10 inches long.\n\nThe first ful
 ly automated mobile phone system for vehicles had been launched in Sweden 
 by TeliaSonera and Ericsson in 1956. Named MTA (Mobile Telephone system A)
 . This was the first time calls could be made and received in the car whil
 e using the public telephone network. Before 1973\, mobile telephones were
  limited to phones installed in cars and other vehicles.\n\nIn 1947\, an e
 ngineer at Bell Labs named William Rae Young proposed that radio towers ar
 ranged in a hexagonal pattern could support a telephone network. Young wor
 ked under another engineer named D.H. Ring. Young's design allowed for low
 -power transmitters to carry calls across the network. It also accounted f
 or handoffs\, which is when a caller moves from one tower's broadcast radi
 us to another. But though the theory was sound\, the technology to make it
  happen was lacking. It would take more than 10 years for the next develop
 ment.\n\nBy the 1960s\, Bell Labs engineers Richard Frenkiel and Joel Enge
 l developed the technology to support Young's design of a cellular network
 . But as AT&T sought permission from the Federal Communications Commission
  (FCC) to develop a cellular network\, Motorola (their competitor) made th
 e bold move in 1973 of making the first cellular based phone call.\n\nBy 1
 981\, the first generation of mobile telephone systems known as Nordic Mob
 ile Telephone System emerged in Sweden and Norway. Osten Makitalo\, who is
  know as the father of the mobile telephone\, said “NMT was the first mode
 rn telephone system\, the mother of all mobile telephones. Everything afte
 r that are actually just copies.” Initial NMT phones were designed to moun
 t in the trunk of a car\, with a keyboard/display unit at the drivers seat
 . \n\nAlthough Cooper and his colleagues had filed a patent for a 'radio t
 elephone system' in October of 1973\, the DynaTAC 8000X phone did not beco
 me commercially available until 1983. The DynaTAC 8000X was the first mobi
 le telephone that could connect to the telephone network without the assis
 tance of a mobile operator and was portable for the user to carry about.  
 It cost about $4\,000 to purchase.\n
X-WR-RELCALID:bdc0d244933d8663b4fc7f431c7efa76
X-WR-TIMEZONE:America/New_York
BEGIN:VTIMEZONE
TZID:America/New_York
BEGIN:STANDARD
TZNAME:EST
DTSTART:20251102T020000
TZOFFSETFROM:-0400
TZOFFSETTO:-0500
RDATE:20261101T020000
END:STANDARD
BEGIN:DAYLIGHT
TZNAME:EDT
DTSTART:20260308T020000
TZOFFSETFROM:-0500
TZOFFSETTO:-0400
RDATE:20270314T020000
END:DAYLIGHT
END:VTIMEZONE
BEGIN:VEVENT
UID:15a745d1-353f-47f5-82b8-7689a460ef68
DTSTAMP:20260424T045344Z
DESCRIPTION:3 April 1973: Motorola engineer Marty Cooper (pictured here) ma
 de the first handheld cell phone call to Joel Engel\, a rival from the res
 earch department at Bell Labs. Cooper made the call on a DynaTAC phone tha
 t weighed in at about 2.2 pounds and was 10 inches long.\n\nThe first full
 y automated mobile phone system for vehicles had been launched in Sweden b
 y TeliaSonera and Ericsson in 1956. Named MTA (Mobile Telephone system A).
  This was the first time calls could be made and received in the car while
  using the public telephone network. Before 1973\, mobile telephones were 
 limited to phones installed in cars and other vehicles.\n\nIn 1947\, an en
 gineer at Bell Labs named William Rae Young proposed that radio towers arr
 anged in a hexagonal pattern could support a telephone network. Young work
 ed under another engineer named D.H. Ring. Young's design allowed for low-
 power transmitters to carry calls across the network. It also accounted fo
 r handoffs\, which is when a caller moves from one tower's broadcast radiu
 s to another. But though the theory was sound\, the technology to make it 
 happen was lacking. It would take more than 10 years for the next developm
 ent.\n\nBy the 1960s\, Bell Labs engineers Richard Frenkiel and Joel Engel
  developed the technology to support Young's design of a cellular network.
  But as AT&T sought permission from the Federal Communications Commission 
 (FCC) to develop a cellular network\, Motorola (their competitor) made the
  bold move in 1973 of making the first cellular based phone call.\n\nBy 19
 81\, the first generation of mobile telephone systems known as Nordic Mobi
 le Telephone System emerged in Sweden and Norway. Osten Makitalo\, who is 
 know as the father of the mobile telephone\, said “NMT was the first moder
 n telephone system\, the mother of all mobile telephones. Everything after
  that are actually just copies.” Initial NMT phones were designed to mount
  in the trunk of a car\, with a keyboard/display unit at the drivers seat.
  \n\nAlthough Cooper and his colleagues had filed a patent for a 'radio te
 lephone system' in October of 1973\, the DynaTAC 8000X phone did not becom
 e commercially available until 1983. The DynaTAC 8000X was the first mobil
 e telephone that could connect to the telephone network without the assist
 ance of a mobile operator and was portable for the user to carry about.  I
 t cost about $4\,000 to purchase.\n
DTSTART;TZID=America/New_York:20260403T000000
DTEND;TZID=America/New_York:20260403T235900
LOCATION:
SUMMARY:1973: Motorola completed the first handheld cellular phone call.
END:VEVENT
END:VCALENDAR
