BEGIN:VCALENDAR
VERSION:2.0
PRODID:-//archive.cryptologicfoundation.org//NONSGML kigkonsult.se iCalcrea
 tor 2.30.10//
CALSCALE:GREGORIAN
METHOD:PUBLISH
UID:3bd87dd2-481f-4c6d-8ce5-6c8b52053135
X-WR-CALDESC:3 April 1907: Dr. Solomon Kullback - cryptologic pioneer\, mat
 hematician\, and teacher was born. Inducted into the NSA/CSS Cryptologic H
 all of Honor in 1999 (see link at end of page). \n\nDr. Kullback was one o
 f the first three employees hired by William F. Friedman at the US Army's 
 Signal Intelligence Service (SIS) in the 1930s\, along with Frank Rowlett 
 and Abraham Sinkov. The original members of SIS were a unique quartet\, me
 n who ought to be national heroes. Their love was as much for the process 
 as the result\, the cryptanalysis as the intelligence derived from it\, bu
 t what they did\, the breakthroughs against the high-level code and cipher
  systems of our principal enemies\, surely shortened the period of war by 
 many months and resulted in the saving of thousands of American and Britis
 h lives.\n\nDr. Kullback enjoyed a long and distinguished career at SIS an
 d its eventual successor\, the National Security Agency. Kullback was the 
 Chief Scientist at the NSA until his retirement in 1962\, whereupon he too
 k a position at the George Washington University.\n\nDr. Kullback was indu
 cted into the NSA/CSS Cryptologic Hall of Honor in 1999. Read the full ent
 ry about his career and accomplishments via the link below.\n\n
X-WR-RELCALID:cef5b099edac42a644ed1b62b5a1aef1
X-WR-TIMEZONE:America/New_York
BEGIN:VTIMEZONE
TZID:America/New_York
BEGIN:STANDARD
TZNAME:EST
DTSTART:20251102T020000
TZOFFSETFROM:-0400
TZOFFSETTO:-0500
RDATE:20261101T020000
END:STANDARD
BEGIN:DAYLIGHT
TZNAME:EDT
DTSTART:20260308T020000
TZOFFSETFROM:-0500
TZOFFSETTO:-0400
RDATE:20270314T020000
END:DAYLIGHT
END:VTIMEZONE
BEGIN:VEVENT
UID:14c2779f-8772-4e1e-9b43-127ebadaf046
DTSTAMP:20260424T045440Z
DESCRIPTION:3 April 1907: Dr. Solomon Kullback - cryptologic pioneer\, math
 ematician\, and teacher was born. Inducted into the NSA/CSS Cryptologic Ha
 ll of Honor in 1999 (see link at end of page). \n\nDr. Kullback was one of
  the first three employees hired by William F. Friedman at the US Army's S
 ignal Intelligence Service (SIS) in the 1930s\, along with Frank Rowlett a
 nd Abraham Sinkov. The original members of SIS were a unique quartet\, men
  who ought to be national heroes. Their love was as much for the process a
 s the result\, the cryptanalysis as the intelligence derived from it\, but
  what they did\, the breakthroughs against the high-level code and cipher 
 systems of our principal enemies\, surely shortened the period of war by m
 any months and resulted in the saving of thousands of American and British
  lives.\n\nDr. Kullback enjoyed a long and distinguished career at SIS and
  its eventual successor\, the National Security Agency. Kullback was the C
 hief Scientist at the NSA until his retirement in 1962\, whereupon he took
  a position at the George Washington University.\n\nDr. Kullback was induc
 ted into the NSA/CSS Cryptologic Hall of Honor in 1999. Read the full entr
 y about his career and accomplishments via the link below.\n\n
DTSTART;TZID=America/New_York:20260403T060000
DTEND;TZID=America/New_York:20260403T060001
LOCATION:
SUMMARY:1907: Cryptologic pioneer Solomon Kullback was born.
END:VEVENT
END:VCALENDAR
