BEGIN:VCALENDAR
VERSION:2.0
PRODID:-//archive.cryptologicfoundation.org//NONSGML kigkonsult.se iCalcrea
 tor 2.30.10//
CALSCALE:GREGORIAN
METHOD:PUBLISH
UID:cc4604d4-fd00-4c5e-8712-4c6706d5a3ee
X-WR-CALDESC:5 April 1918: Lieutenant Georges Painvin of the French Cipher 
 Bureau solved the first key for the ADFGVX cipher. He eventually broke the
  cipher in June 1918 and the enciphered message read: 'Rush munitions. Eve
 n by day if not seen.' This message indicated where the German offensive w
 as to take place\, and the allies managed to defeat the German attack. \n
 \nIn cryptography\, the ADFGVX cipher was a field cipher used by the Germa
 n Army on the Western Front during World War I. ADFGVX was in fact an exte
 nsion of an earlier cipher called ADFGX. \n\nPhoto Information: 'Georges P
 ainvin'. Licensed under Fair use via Wikipedia - http://en.wikipedia.org/w
 iki/File:Georges_Painvin.jpg#/media/File:Georges_Painvin.jpg
X-WR-RELCALID:7b0532a6c52cd17d669e29567b9045b9
X-WR-TIMEZONE:America/New_York
BEGIN:VTIMEZONE
TZID:America/New_York
BEGIN:STANDARD
TZNAME:EST
DTSTART:20251102T020000
TZOFFSETFROM:-0400
TZOFFSETTO:-0500
RDATE:20261101T020000
END:STANDARD
BEGIN:DAYLIGHT
TZNAME:EDT
DTSTART:20260308T020000
TZOFFSETFROM:-0500
TZOFFSETTO:-0400
RDATE:20270314T020000
END:DAYLIGHT
END:VTIMEZONE
BEGIN:VEVENT
UID:14ee3d1d-87ea-496c-9114-4643e3540c72
DTSTAMP:20260424T051007Z
DESCRIPTION:5 April 1918: Lieutenant Georges Painvin of the French Cipher B
 ureau solved the first key for the ADFGVX cipher. He eventually broke the 
 cipher in June 1918 and the enciphered message read: 'Rush munitions. Even
  by day if not seen.' This message indicated where the German offensive wa
 s to take place\, and the allies managed to defeat the German attack. \n\n
 In cryptography\, the ADFGVX cipher was a field cipher used by the German 
 Army on the Western Front during World War I. ADFGVX was in fact an extens
 ion of an earlier cipher called ADFGX. \n\nPhoto Information: 'Georges Pai
 nvin'. Licensed under Fair use via Wikipedia - http://en.wikipedia.org/wik
 i/File:Georges_Painvin.jpg#/media/File:Georges_Painvin.jpg
DTSTART;TZID=America/New_York:20260405T000000
DTEND;TZID=America/New_York:20260405T235900
LOCATION:
SUMMARY:1918: French Army Lt Georges Painvin solved the first key for the A
 DFGVX cipher.
END:VEVENT
END:VCALENDAR
