BEGIN:VCALENDAR
VERSION:2.0
PRODID:-//archive.cryptologicfoundation.org//NONSGML kigkonsult.se iCalcrea
 tor 2.30.10//
CALSCALE:GREGORIAN
METHOD:PUBLISH
UID:910e4b72-fb32-4580-b1e2-58ccc15673a0
X-WR-CALDESC:6 April 1943: First break into the Japanese Water Transport Co
 de.
X-WR-RELCALID:deb8a426b053285d08f2b86a04cea26f
X-WR-TIMEZONE:America/New_York
BEGIN:VTIMEZONE
TZID:America/New_York
BEGIN:STANDARD
TZNAME:EST
DTSTART:20251102T020000
TZOFFSETFROM:-0400
TZOFFSETTO:-0500
RDATE:20261101T020000
END:STANDARD
BEGIN:DAYLIGHT
TZNAME:EDT
DTSTART:20260308T020000
TZOFFSETFROM:-0500
TZOFFSETTO:-0400
RDATE:20270314T020000
END:DAYLIGHT
END:VTIMEZONE
BEGIN:VEVENT
UID:f4e6e9d3-563b-42b7-8ebd-49e21fd1d521
DTSTAMP:20260424T045258Z
DESCRIPTION:6 April 1943: First break into the Japanese Water Transport Cod
 e.
DTSTART;TZID=America/New_York:20260406T000000
DTEND;TZID=America/New_York:20260406T235900
LOCATION:
SUMMARY:1943: First break in the Japanese Water Transport Code.
END:VEVENT
END:VCALENDAR
