BEGIN:VCALENDAR
VERSION:2.0
PRODID:-//archive.cryptologicfoundation.org//NONSGML kigkonsult.se iCalcrea
 tor 2.30.10//
CALSCALE:GREGORIAN
METHOD:PUBLISH
UID:f423899f-d39f-4a35-8664-b210a24a5ffc
X-WR-CALDESC:7 April 1882: Birth of Hermann Pokorny\, founder of the Hungar
 ian cryptanalytic service Sub-Group X or Section X. Pokorny was a World Wa
 r I Austro-Hungarian Army cryptologist whose work with Russian ciphers con
 tributed substantially to Central Powers victories over Russia.\n\nDuring 
 World War I\, Pokorny\, as a cryptologist in the rank of major\, headed th
 e Austro-Hungarian General Staff's Russian-Cipher Bureau. He showed great 
 ability in decrypting Russian enciphered military messages that were broad
 cast by radio in 1914–17. He recognized that the Russian cryptographers ha
 d reduced the 35-letter Russian alphabet to 24 letters\, while doubling th
 e 11 missing letters to some of the other 24 letters. His break into the R
 ussian military cipher system enabled Austro-Hungarian and German forces t
 o act in advance of impending Russian maneuvers\, thus contributing substa
 ntially to Central Powers victories over the Russians. He is mentioned in 
 Soviet Marshal Boris Shaposhnikov's famous book\, Мозг армии (The Brain of
  the Army\, 1929). For his services to cryptology\, Pokorny was decorated 
 with the Large Military Merit Medal with Swords in 1918. Founded on April 
 1\, 1916\, this honour was intended for the 'highest especially praisewort
 hy recognition' and was awarded only 30 times. 28 of its recipients were o
 fficers of general's rank\; the other two were the naval aviator Gottfried
  von Banfield (1916) and Pokorny himself. By 1918\, when the Austro-Hungar
 ian Empire fell\, he was a lieutenant colonel.
X-WR-RELCALID:36904003f01cdbec5b146e31839fa3de
X-WR-TIMEZONE:America/New_York
BEGIN:VTIMEZONE
TZID:America/New_York
BEGIN:STANDARD
TZNAME:EST
DTSTART:20251102T020000
TZOFFSETFROM:-0400
TZOFFSETTO:-0500
RDATE:20261101T020000
END:STANDARD
BEGIN:DAYLIGHT
TZNAME:EDT
DTSTART:20260308T020000
TZOFFSETFROM:-0500
TZOFFSETTO:-0400
RDATE:20270314T020000
END:DAYLIGHT
END:VTIMEZONE
BEGIN:VEVENT
UID:f5d8594b-979b-4661-9772-d7b6558f3ffa
DTSTAMP:20260424T070526Z
DESCRIPTION:7 April 1882: Birth of Hermann Pokorny\, founder of the Hungari
 an cryptanalytic service Sub-Group X or Section X. Pokorny was a World War
  I Austro-Hungarian Army cryptologist whose work with Russian ciphers cont
 ributed substantially to Central Powers victories over Russia.\n\nDuring W
 orld War I\, Pokorny\, as a cryptologist in the rank of major\, headed the
  Austro-Hungarian General Staff's Russian-Cipher Bureau. He showed great a
 bility in decrypting Russian enciphered military messages that were broadc
 ast by radio in 1914–17. He recognized that the Russian cryptographers had
  reduced the 35-letter Russian alphabet to 24 letters\, while doubling the
  11 missing letters to some of the other 24 letters. His break into the Ru
 ssian military cipher system enabled Austro-Hungarian and German forces to
  act in advance of impending Russian maneuvers\, thus contributing substan
 tially to Central Powers victories over the Russians. He is mentioned in S
 oviet Marshal Boris Shaposhnikov's famous book\, Мозг армии (The Brain of 
 the Army\, 1929). For his services to cryptology\, Pokorny was decorated w
 ith the Large Military Merit Medal with Swords in 1918. Founded on April 1
 \, 1916\, this honour was intended for the 'highest especially praiseworth
 y recognition' and was awarded only 30 times. 28 of its recipients were of
 ficers of general's rank\; the other two were the naval aviator Gottfried 
 von Banfield (1916) and Pokorny himself. By 1918\, when the Austro-Hungari
 an Empire fell\, he was a lieutenant colonel.
DTSTART;TZID=America/New_York:20260407T000000
DTEND;TZID=America/New_York:20260407T235900
LOCATION:
SUMMARY:1882: Birth of Hermann Pokorny\, founder of the Hungarian cryptanal
 ytic service.
END:VEVENT
END:VCALENDAR
