BEGIN:VCALENDAR
VERSION:2.0
PRODID:-//archive.cryptologicfoundation.org//NONSGML kigkonsult.se iCalcrea
 tor 2.30.10//
CALSCALE:GREGORIAN
METHOD:PUBLISH
UID:b0cd19f5-e0bf-4a0c-aa5a-6ceec3cd1bb2
X-WR-CALDESC:7 April 1964: IBM introduced the System/360 mainframe computer
  system family.\n\nIt was the first family of computers designed to cover 
 the complete range of applications\, from small to large\, both commercial
  and scientific. The design made a clear distinction between architecture 
 and implementation\, allowing IBM to release a suite of compatible designs
  at different prices.\n\nSee the IBM Press Release via the link below.\n\n
 Photo is of the IBM System/360 Model 30 at the Computer History Museum. Ph
 oto info:  'IBM System360 Model 30' by Dave Ross - Flickr: IBM System/360 
 Model 30. Licensed under CC BY 2.0 via Wikimedia Commons - http://commons.
 wikimedia.org/wiki/File:IBM_System360_Model_30.jpg#/media/File:IBM_System3
 60_Model_30.jpg
X-WR-RELCALID:c0d7735daacf1e9f0993661e4d8aaa35
X-WR-TIMEZONE:America/New_York
BEGIN:VTIMEZONE
TZID:America/New_York
BEGIN:STANDARD
TZNAME:EST
DTSTART:20251102T020000
TZOFFSETFROM:-0400
TZOFFSETTO:-0500
RDATE:20261101T020000
END:STANDARD
BEGIN:DAYLIGHT
TZNAME:EDT
DTSTART:20260308T020000
TZOFFSETFROM:-0500
TZOFFSETTO:-0400
RDATE:20270314T020000
END:DAYLIGHT
END:VTIMEZONE
BEGIN:VEVENT
UID:9f9f72e8-4b7c-4d13-ba74-a91d866bb8d2
DTSTAMP:20260424T061329Z
DESCRIPTION:7 April 1964: IBM introduced the System/360 mainframe computer 
 system family.\n\nIt was the first family of computers designed to cover t
 he complete range of applications\, from small to large\, both commercial 
 and scientific. The design made a clear distinction between architecture a
 nd implementation\, allowing IBM to release a suite of compatible designs 
 at different prices.\n\nSee the IBM Press Release via the link below.\n\nP
 hoto is of the IBM System/360 Model 30 at the Computer History Museum. Pho
 to info:  'IBM System360 Model 30' by Dave Ross - Flickr: IBM System/360 M
 odel 30. Licensed under CC BY 2.0 via Wikimedia Commons - http://commons.w
 ikimedia.org/wiki/File:IBM_System360_Model_30.jpg#/media/File:IBM_System36
 0_Model_30.jpg
DTSTART;TZID=America/New_York:20260407T060000
DTEND;TZID=America/New_York:20260407T060001
LOCATION:
SUMMARY:1964: IBM Introduced the System/360
END:VEVENT
END:VCALENDAR
