BEGIN:VCALENDAR
VERSION:2.0
PRODID:-//archive.cryptologicfoundation.org//NONSGML kigkonsult.se iCalcrea
 tor 2.30.10//
CALSCALE:GREGORIAN
METHOD:PUBLISH
UID:aebbe1d3-8edc-4b31-b0e0-abab5590df13
X-WR-CALDESC:8 April 1950: A U.S. Navy PB4Y-2 Privateer (BuNo 59645) was sh
 ot down over the Baltic Sea by Soviet La-11 fighters. Named the <i>Turbule
 nt Turtle\,</i> the aircraft was assigned to Patrol Squadron 26 (VP-26)\, 
 Det A. The privateer's crew of 10 sailors was reported missing in action o
 n 9 April 1950. \n\nThe privateer was a World War II and Korean War era pa
 trol bomber of the U.S. Navy derived from the Consolidated B-24 Liberator.
  In addition to other types of missions\, privateers were used by the US N
 avy for signals intelligence (SIGINT) flights off of the coast of the Sovi
 et Union and the People's Republic of China.
X-WR-RELCALID:26cdb2ba36106a5cef2dc1034f0f6d2e
X-WR-TIMEZONE:America/New_York
BEGIN:VTIMEZONE
TZID:America/New_York
BEGIN:STANDARD
TZNAME:EST
DTSTART:20251102T020000
TZOFFSETFROM:-0400
TZOFFSETTO:-0500
RDATE:20261101T020000
END:STANDARD
BEGIN:DAYLIGHT
TZNAME:EDT
DTSTART:20260308T020000
TZOFFSETFROM:-0500
TZOFFSETTO:-0400
RDATE:20270314T020000
END:DAYLIGHT
END:VTIMEZONE
BEGIN:VEVENT
UID:2f7d9cee-80b2-41b9-a5c3-4e165d47af72
DTSTAMP:20260424T050856Z
DESCRIPTION:8 April 1950: A U.S. Navy PB4Y-2 Privateer (BuNo 59645) was sho
 t down over the Baltic Sea by Soviet La-11 fighters. Named the <i>Turbulen
 t Turtle\,</i> the aircraft was assigned to Patrol Squadron 26 (VP-26)\, D
 et A. The privateer's crew of 10 sailors was reported missing in action on
  9 April 1950. \n\nThe privateer was a World War II and Korean War era pat
 rol bomber of the U.S. Navy derived from the Consolidated B-24 Liberator. 
 In addition to other types of missions\, privateers were used by the US Na
 vy for signals intelligence (SIGINT) flights off of the coast of the Sovie
 t Union and the People's Republic of China.
DTSTART;TZID=America/New_York:20260408T060000
DTEND;TZID=America/New_York:20260408T060001
LOCATION:
SUMMARY:1950: Navy PB4Y-2 Privateer Patrol Bomber Shot Down.
END:VEVENT
END:VCALENDAR
