BEGIN:VCALENDAR
VERSION:2.0
PRODID:-//archive.cryptologicfoundation.org//NONSGML kigkonsult.se iCalcrea
 tor 2.30.10//
CALSCALE:GREGORIAN
METHOD:PUBLISH
UID:1956215f-c4a7-476c-87d0-d700a63fa30b
X-WR-CALDESC:12 April 2001: China released 24 USN EP3 crewmen following col
 lision with PRC fighter.
X-WR-RELCALID:58f3ac672ef89e61e398eb164b0628d7
X-WR-TIMEZONE:America/New_York
BEGIN:VTIMEZONE
TZID:America/New_York
BEGIN:STANDARD
TZNAME:EST
DTSTART:20251102T020000
TZOFFSETFROM:-0400
TZOFFSETTO:-0500
RDATE:20261101T020000
END:STANDARD
BEGIN:DAYLIGHT
TZNAME:EDT
DTSTART:20260308T020000
TZOFFSETFROM:-0500
TZOFFSETTO:-0400
RDATE:20270314T020000
END:DAYLIGHT
END:VTIMEZONE
BEGIN:VEVENT
UID:fc23d27c-692c-4591-84e2-ff57804d2870
DTSTAMP:20260424T061352Z
DESCRIPTION:12 April 2001: China released 24 USN EP3 crewmen following coll
 ision with PRC fighter.
DTSTART;TZID=America/New_York:20260412T000000
DTEND;TZID=America/New_York:20260412T235900
LOCATION:
SUMMARY:2001: China Released 24 USN EP3 Crewmen.
END:VEVENT
END:VCALENDAR
