BEGIN:VCALENDAR
VERSION:2.0
PRODID:-//archive.cryptologicfoundation.org//NONSGML kigkonsult.se iCalcrea
 tor 2.30.10//
CALSCALE:GREGORIAN
METHOD:PUBLISH
UID:0dfb90d3-a85f-482a-8e2c-2f3c941dd394
X-WR-CALDESC:13 April 1943: FRUPAC intercepted encoded itinerary of Admiral
  Yamamoto's upcoming tour of the Solomon Islands. OP-20-G\, FRUPAC\, and F
 RUMEL exchanged information to help decrypt the messages. This work enable
 d the shootdown of Admiral Yamamoto five days later. Photo:  FRUPAC workin
 g on JN-25.\n\n“On April 13\, 1943\, Allied radio intelligence intercepted
  a message carrying the travel itinerary of Admiral Yamamoto. The detail i
 n the message listed flight and ground schedules and included what type of
  fighter escort would be provided. Major Red Lasswell of FRUPAC broke the 
 coded message. The decision of what to do with the information was left to
  Admiral Nimitz. Nimitz consulted Layton as to what the ramifications woul
 d be if Yamamoto were removed. They considered that he might be replaced w
 ith a better commander\, and Nimitz felt familiar with Yamamoto as his opp
 onent. Layton felt nobody could adequately replace Yamamoto\, and based on
  this opinion Nimitz gave Admiral Halsey the authority to carry out the in
 tercept of Yamamoto’s aircraft. On 18 April\, a flight of P-38 fighters wi
 th specially selected pilots and equipped with long-range fuel tanks shot 
 down Yamamoto’s aircraft\, killing one of Japan’s top naval leaders.”  <b>
 Ricky J. Nussio\, in Sherman and Nimitz: Executing Modern Information Oper
 ations (2001)</b>
X-WR-RELCALID:09222e6e78e046832d7893a764961a13
X-WR-TIMEZONE:America/New_York
BEGIN:VTIMEZONE
TZID:America/New_York
BEGIN:STANDARD
TZNAME:EST
DTSTART:20251102T020000
TZOFFSETFROM:-0400
TZOFFSETTO:-0500
RDATE:20261101T020000
END:STANDARD
BEGIN:DAYLIGHT
TZNAME:EDT
DTSTART:20260308T020000
TZOFFSETFROM:-0500
TZOFFSETTO:-0400
RDATE:20270314T020000
END:DAYLIGHT
END:VTIMEZONE
BEGIN:VEVENT
UID:8e77c8e0-fcda-4c0f-a22a-067466d7ec4e
DTSTAMP:20260424T045731Z
DESCRIPTION:13 April 1943: FRUPAC intercepted encoded itinerary of Admiral 
 Yamamoto's upcoming tour of the Solomon Islands. OP-20-G\, FRUPAC\, and FR
 UMEL exchanged information to help decrypt the messages. This work enabled
  the shootdown of Admiral Yamamoto five days later. Photo:  FRUPAC working
  on JN-25.\n\n“On April 13\, 1943\, Allied radio intelligence intercepted 
 a message carrying the travel itinerary of Admiral Yamamoto. The detail in
  the message listed flight and ground schedules and included what type of 
 fighter escort would be provided. Major Red Lasswell of FRUPAC broke the c
 oded message. The decision of what to do with the information was left to 
 Admiral Nimitz. Nimitz consulted Layton as to what the ramifications would
  be if Yamamoto were removed. They considered that he might be replaced wi
 th a better commander\, and Nimitz felt familiar with Yamamoto as his oppo
 nent. Layton felt nobody could adequately replace Yamamoto\, and based on 
 this opinion Nimitz gave Admiral Halsey the authority to carry out the int
 ercept of Yamamoto’s aircraft. On 18 April\, a flight of P-38 fighters wit
 h specially selected pilots and equipped with long-range fuel tanks shot d
 own Yamamoto’s aircraft\, killing one of Japan’s top naval leaders.”  <b>R
 icky J. Nussio\, in Sherman and Nimitz: Executing Modern Information Opera
 tions (2001)</b>
DTSTART;TZID=America/New_York:20260413T000000
DTEND;TZID=America/New_York:20260413T235900
LOCATION:
SUMMARY:1943: FRUPAC Intercepted Yamamoto's Encoded Itinerary.
END:VEVENT
END:VCALENDAR
