BEGIN:VCALENDAR
VERSION:2.0
PRODID:-//archive.cryptologicfoundation.org//NONSGML kigkonsult.se iCalcrea
 tor 2.30.10//
CALSCALE:GREGORIAN
METHOD:PUBLISH
UID:c3023518-bb57-4eb2-b4d5-034a21958ac9
X-WR-CALDESC:14 April 1969: 'Der Spiegel' reported on what might have been 
 the first case of computer espionage\, an operation run against IBM's West
  German affiliate from East Germany.
X-WR-RELCALID:aacd4f69229058f73c01b227b66b1aa2
X-WR-TIMEZONE:America/New_York
BEGIN:VTIMEZONE
TZID:America/New_York
BEGIN:STANDARD
TZNAME:EST
DTSTART:20251102T020000
TZOFFSETFROM:-0400
TZOFFSETTO:-0500
RDATE:20261101T020000
END:STANDARD
BEGIN:DAYLIGHT
TZNAME:EDT
DTSTART:20260308T020000
TZOFFSETFROM:-0500
TZOFFSETTO:-0400
RDATE:20270314T020000
END:DAYLIGHT
END:VTIMEZONE
BEGIN:VEVENT
UID:181be691-ffcc-47de-85e8-4d074152b7ca
DTSTAMP:20260424T044906Z
DESCRIPTION:14 April 1969: 'Der Spiegel' reported on what might have been t
 he first case of computer espionage\, an operation run against IBM's West 
 German affiliate from East Germany.
DTSTART;TZID=America/New_York:20260414T000000
DTEND;TZID=America/New_York:20260414T235900
LOCATION:
SUMMARY:1969: 'Der Spiegel' Reported on Computer Espionage
END:VEVENT
END:VCALENDAR
