BEGIN:VCALENDAR
VERSION:2.0
PRODID:-//archive.cryptologicfoundation.org//NONSGML kigkonsult.se iCalcrea
 tor 2.30.10//
CALSCALE:GREGORIAN
METHOD:PUBLISH
UID:0413e350-11cf-4e5c-81d4-5988aa8f6ebc
X-WR-CALDESC:15 April 1942: Central Bureau was established in Australia to 
 provide MacArthur's South West Pacific Theatre with COMINT. The Central Bu
 reau was one of two Allied SIGINT organizations in the South West Pacific 
 Area during World War II. The second unit was the joint RAN/USN Fleet Radi
 o Unit\, Melbourne (FRUMEL) Fleet Radio Unit Pacific\, which was subordina
 te to the Commander of the USN 7th Fleet. Central Bureau's role was to res
 earch and decrypt intercepted land and air traffic and work in close co-op
 eration with other SIGINT centers in the USA\, United Kingdom\, and India.
  Photo from Wikipedia.
X-WR-RELCALID:a98e15f3ad24eb28856380956de0c78c
X-WR-TIMEZONE:America/New_York
BEGIN:VTIMEZONE
TZID:America/New_York
BEGIN:STANDARD
TZNAME:EST
DTSTART:20251102T020000
TZOFFSETFROM:-0400
TZOFFSETTO:-0500
RDATE:20261101T020000
END:STANDARD
BEGIN:DAYLIGHT
TZNAME:EDT
DTSTART:20260308T020000
TZOFFSETFROM:-0500
TZOFFSETTO:-0400
RDATE:20270314T020000
END:DAYLIGHT
END:VTIMEZONE
BEGIN:VEVENT
UID:ac38eca9-bee9-430f-b72b-9a7cc8773c7a
DTSTAMP:20260424T044925Z
DESCRIPTION:15 April 1942: Central Bureau was established in Australia to p
 rovide MacArthur's South West Pacific Theatre with COMINT. The Central Bur
 eau was one of two Allied SIGINT organizations in the South West Pacific A
 rea during World War II. The second unit was the joint RAN/USN Fleet Radio
  Unit\, Melbourne (FRUMEL) Fleet Radio Unit Pacific\, which was subordinat
 e to the Commander of the USN 7th Fleet. Central Bureau's role was to rese
 arch and decrypt intercepted land and air traffic and work in close co-ope
 ration with other SIGINT centers in the USA\, United Kingdom\, and India. 
 Photo from Wikipedia.
DTSTART;TZID=America/New_York:20260415T000000
DTEND;TZID=America/New_York:20260415T235900
LOCATION:
SUMMARY:1942: Central Bureau Established
END:VEVENT
END:VCALENDAR
