BEGIN:VCALENDAR
VERSION:2.0
PRODID:-//archive.cryptologicfoundation.org//NONSGML kigkonsult.se iCalcrea
 tor 2.30.10//
CALSCALE:GREGORIAN
METHOD:PUBLISH
UID:52dc0cf2-396b-4db6-af7f-7b0b5df5d465
X-WR-CALDESC:17 April 1942: Intercepts by Station HYPO (led by Capt. Joseph
  Rochefort) revealed Japanese plans to attack Port Moresby\, thus\, allowi
 ng for Allied defense. Photo Info: Capt. Joseph J. Rochefort led many of t
 he key Station HYPO codebreakers who correctly deciphered Japanese message
 s about Midway. Courtesy of U.S. Naval Historical Center/Wikimedia/Creativ
 e Commons\n\nPort Moresby was an Australian base on the southern coast of 
 New Guinea. US Navy communications intercept and radio direction finding s
 tation in Hawaii\, codenamed 'HYPO\,' warned that the Japanese were assemb
 ling a naval strike force at their major base at Rabaul on the island of N
 ew Britain\, north of New Guinea. Decrypts of Japanese messages indicated 
 the fleet would move on Port Moresby early on 7 May 1942.\n\nAmerican Admi
 ral Chester W. Nimitz moved his forces to respond. A US Navy fleet with tw
 o carriers\, the LEXINGTON and the YORKTOWN\, steamed to the Coral Sea\, b
 etween New Guinea and Australia\, while combat aircraft were sent to Port 
 Moresby to reinforce the base. The Japanese and American fleets struck at 
 each other by air for two days in the Battle of the Coral Sea. Neither sid
 e's ships ever got within gun range of each other.\n\nThe LEXINGTON was su
 nk and the YORKTOWN was badly damaged. The Japanese light carrier SHOHO wa
 s sunk\, and two larger Japanese carriers had to return to Japan for repai
 rs. The battle was tactically a draw\, but strategically an Allied victory
  because the Japanese drive on Port Moresby had been turned back. The Amer
 icans and Australians were able to ramp up their efforts to dislodge the J
 apanese from the northern regions of New Guinea.
X-WR-RELCALID:181f7eed89a1fffbd89f590b59518e2a
X-WR-TIMEZONE:America/New_York
BEGIN:VTIMEZONE
TZID:America/New_York
BEGIN:STANDARD
TZNAME:EST
DTSTART:20251102T020000
TZOFFSETFROM:-0400
TZOFFSETTO:-0500
RDATE:20261101T020000
END:STANDARD
BEGIN:DAYLIGHT
TZNAME:EDT
DTSTART:20260308T020000
TZOFFSETFROM:-0500
TZOFFSETTO:-0400
RDATE:20270314T020000
END:DAYLIGHT
END:VTIMEZONE
BEGIN:VEVENT
UID:6a39c063-66ff-45d1-a45c-0891575d7834
DTSTAMP:20260424T050719Z
DESCRIPTION:17 April 1942: Intercepts by Station HYPO (led by Capt. Joseph 
 Rochefort) revealed Japanese plans to attack Port Moresby\, thus\, allowin
 g for Allied defense. Photo Info: Capt. Joseph J. Rochefort led many of th
 e key Station HYPO codebreakers who correctly deciphered Japanese messages
  about Midway. Courtesy of U.S. Naval Historical Center/Wikimedia/Creative
  Commons\n\nPort Moresby was an Australian base on the southern coast of N
 ew Guinea. US Navy communications intercept and radio direction finding st
 ation in Hawaii\, codenamed 'HYPO\,' warned that the Japanese were assembl
 ing a naval strike force at their major base at Rabaul on the island of Ne
 w Britain\, north of New Guinea. Decrypts of Japanese messages indicated t
 he fleet would move on Port Moresby early on 7 May 1942.\n\nAmerican Admir
 al Chester W. Nimitz moved his forces to respond. A US Navy fleet with two
  carriers\, the LEXINGTON and the YORKTOWN\, steamed to the Coral Sea\, be
 tween New Guinea and Australia\, while combat aircraft were sent to Port M
 oresby to reinforce the base. The Japanese and American fleets struck at e
 ach other by air for two days in the Battle of the Coral Sea. Neither side
 's ships ever got within gun range of each other.\n\nThe LEXINGTON was sun
 k and the YORKTOWN was badly damaged. The Japanese light carrier SHOHO was
  sunk\, and two larger Japanese carriers had to return to Japan for repair
 s. The battle was tactically a draw\, but strategically an Allied victory 
 because the Japanese drive on Port Moresby had been turned back. The Ameri
 cans and Australians were able to ramp up their efforts to dislodge the Ja
 panese from the northern regions of New Guinea.
DTSTART;TZID=America/New_York:20260417T000000
DTEND;TZID=America/New_York:20260417T235900
LOCATION:
SUMMARY:1942: Station HYPO Intercepts Revealed Japanese Plans for Attack.
END:VEVENT
END:VCALENDAR
