BEGIN:VCALENDAR
VERSION:2.0
PRODID:-//archive.cryptologicfoundation.org//NONSGML kigkonsult.se iCalcrea
 tor 2.30.10//
CALSCALE:GREGORIAN
METHOD:PUBLISH
UID:a540472e-89b7-4b0b-9f9c-9907a7aa8255
X-WR-CALDESC:18 April 1967: NSA experts spoke in public about computer secu
 rity at the Spring Joint Computer Conference in Atlantic City\, NJ.
X-WR-RELCALID:2ef2447d3bd5c79926d2a799e5817b6f
X-WR-TIMEZONE:America/New_York
BEGIN:VTIMEZONE
TZID:America/New_York
BEGIN:STANDARD
TZNAME:EST
DTSTART:20251102T020000
TZOFFSETFROM:-0400
TZOFFSETTO:-0500
RDATE:20261101T020000
END:STANDARD
BEGIN:DAYLIGHT
TZNAME:EDT
DTSTART:20260308T020000
TZOFFSETFROM:-0500
TZOFFSETTO:-0400
RDATE:20270314T020000
END:DAYLIGHT
END:VTIMEZONE
BEGIN:VEVENT
UID:8f794df5-1463-4550-a720-dbf77a47a58a
DTSTAMP:20260424T061520Z
DESCRIPTION:18 April 1967: NSA experts spoke in public about computer secur
 ity at the Spring Joint Computer Conference in Atlantic City\, NJ.
DTSTART;TZID=America/New_York:20260418T000000
DTEND;TZID=America/New_York:20260418T235900
LOCATION:
SUMMARY:1967: NSA Experts Spoke in Public on Computer Security at Atlantic 
 City Conference.
END:VEVENT
END:VCALENDAR
