BEGIN:VCALENDAR
VERSION:2.0
PRODID:-//archive.cryptologicfoundation.org//NONSGML kigkonsult.se iCalcrea
 tor 2.30.10//
CALSCALE:GREGORIAN
METHOD:PUBLISH
UID:c555a733-1d2d-423c-ad79-96a9f69f60e7
X-WR-CALDESC:25 April 1874: Radio pioneer Guglielmo Marconi was born. \n\nE
 xcerpt from Wikipedia:  Marconi was an Italian inventor and electrical eng
 ineer\, known for his pioneering work on long-distance radio transmission 
 and for his development of Marconi's law and a radio telegraph system. He 
 is often credited as the inventor of radio\,  and he shared the 1909 Nobel
  Prize in Physics with Karl Ferdinand Braun 'in recognition of their contr
 ibutions to the development of wireless telegraphy.' An entrepreneur\, bus
 inessman\, and founder in Britain in 1897 of The Wireless Telegraph & Sign
 al Company (which became the Marconi Company)\, Marconi succeeded in makin
 g a commercial success of radio by innovating and building on the work of 
 previous experimenters and physicists.
X-WR-RELCALID:233d7b0c5cb9561f469fa64b3651196c
X-WR-TIMEZONE:America/New_York
BEGIN:VTIMEZONE
TZID:America/New_York
BEGIN:STANDARD
TZNAME:EST
DTSTART:20251102T020000
TZOFFSETFROM:-0400
TZOFFSETTO:-0500
RDATE:20261101T020000
END:STANDARD
BEGIN:DAYLIGHT
TZNAME:EDT
DTSTART:20260308T020000
TZOFFSETFROM:-0500
TZOFFSETTO:-0400
RDATE:20270314T020000
END:DAYLIGHT
END:VTIMEZONE
BEGIN:VEVENT
UID:96b18136-52ed-4c69-9224-9dda90caaa81
DTSTAMP:20260424T051021Z
DESCRIPTION:25 April 1874: Radio pioneer Guglielmo Marconi was born. \n\nEx
 cerpt from Wikipedia:  Marconi was an Italian inventor and electrical engi
 neer\, known for his pioneering work on long-distance radio transmission a
 nd for his development of Marconi's law and a radio telegraph system. He i
 s often credited as the inventor of radio\,  and he shared the 1909 Nobel 
 Prize in Physics with Karl Ferdinand Braun 'in recognition of their contri
 butions to the development of wireless telegraphy.' An entrepreneur\, busi
 nessman\, and founder in Britain in 1897 of The Wireless Telegraph & Signa
 l Company (which became the Marconi Company)\, Marconi succeeded in making
  a commercial success of radio by innovating and building on the work of p
 revious experimenters and physicists.
DTSTART;TZID=America/New_York:20260425T000000
DTEND;TZID=America/New_York:20260425T235900
LOCATION:
SUMMARY:1874: Radio Pioneer Guglielmo Marconi was Born.
END:VEVENT
END:VCALENDAR
