BEGIN:VCALENDAR
VERSION:2.0
PRODID:-//archive.cryptologicfoundation.org//NONSGML kigkonsult.se iCalcrea
 tor 2.30.10//
CALSCALE:GREGORIAN
METHOD:PUBLISH
UID:ea477970-9ac5-424b-bc54-8a94d90d640e
X-WR-CALDESC:27 April 1964: DoD Directive established DEFSMAC (Defense Spec
 ial Missile and Astronautics Center). It was renamed in 2002 changing “Ast
 ronautics” to “Aerospace.” DEFSMAC is a joint NSA-DIA-NGA organization hea
 dquartered at NSA. Its mission is to coordinate the collection of intellig
 ence information from foreign missiles and satellites. Initially focused i
 n the 1960s on Soviet missile testing\, DEFSMAC’s mission grew over the de
 cades as more foreign countries developed indigenous missile and space sys
 tems. \n\nTo learn more about DEFSMAC’s mission and history\, read the Cen
 ter for Cryptologic History publication “In the Forefront of Foreign Missi
 le and Space Intelligence\,” by Richard L. Bernard\, as well as another DE
 FSMAC-related NSA publication via the link below.
X-WR-RELCALID:2346ab79983fa064e5d341eba9a14cfb
X-WR-TIMEZONE:America/New_York
BEGIN:VTIMEZONE
TZID:America/New_York
BEGIN:STANDARD
TZNAME:EST
DTSTART:20251102T020000
TZOFFSETFROM:-0400
TZOFFSETTO:-0500
RDATE:20261101T020000
END:STANDARD
BEGIN:DAYLIGHT
TZNAME:EDT
DTSTART:20260308T020000
TZOFFSETFROM:-0500
TZOFFSETTO:-0400
RDATE:20270314T020000
END:DAYLIGHT
END:VTIMEZONE
BEGIN:VEVENT
UID:511cfd8e-f027-49c1-a2c4-20953126446e
DTSTAMP:20260424T045027Z
DESCRIPTION:27 April 1964: DoD Directive established DEFSMAC (Defense Speci
 al Missile and Astronautics Center). It was renamed in 2002 changing “Astr
 onautics” to “Aerospace.” DEFSMAC is a joint NSA-DIA-NGA organization head
 quartered at NSA. Its mission is to coordinate the collection of intellige
 nce information from foreign missiles and satellites. Initially focused in
  the 1960s on Soviet missile testing\, DEFSMAC’s mission grew over the dec
 ades as more foreign countries developed indigenous missile and space syst
 ems. \n\nTo learn more about DEFSMAC’s mission and history\, read the Cent
 er for Cryptologic History publication “In the Forefront of Foreign Missil
 e and Space Intelligence\,” by Richard L. Bernard\, as well as another DEF
 SMAC-related NSA publication via the link below.
DTSTART;TZID=America/New_York:20260427T060000
DTEND;TZID=America/New_York:20260427T060001
LOCATION:
SUMMARY:1964: DEFSMAC Established.
END:VEVENT
END:VCALENDAR
