BEGIN:VCALENDAR
VERSION:2.0
PRODID:-//archive.cryptologicfoundation.org//NONSGML kigkonsult.se iCalcrea
 tor 2.30.10//
CALSCALE:GREGORIAN
METHOD:PUBLISH
UID:a87b2d43-5f38-42b2-90b0-6b553075948b
X-WR-CALDESC:30 April 1965 - Secretary of Defense McNamara approved designa
 tion of the National Cryptologic School. Today with more than 20 campuses\
 , four cryptologic centers\, and six cryptologic training schools\, NSA is
  a true global training enterprise. With modern\, mission-focused curricul
 ums\, NSA delivers career development solutions for every stage of your ca
 reer.\n\nPhoto is from the NSA 60th anniversary timeline: NSA Director LTG
  Marshall S. Carter\, USA\, observes class in progress during a 1967 visit
 .
X-WR-RELCALID:9c0b593fc7842228158a7ee4d2067970
X-WR-TIMEZONE:America/New_York
BEGIN:VTIMEZONE
TZID:America/New_York
BEGIN:STANDARD
TZNAME:EST
DTSTART:20251102T020000
TZOFFSETFROM:-0400
TZOFFSETTO:-0500
RDATE:20261101T020000
END:STANDARD
BEGIN:DAYLIGHT
TZNAME:EDT
DTSTART:20260308T020000
TZOFFSETFROM:-0500
TZOFFSETTO:-0400
RDATE:20270314T020000
END:DAYLIGHT
END:VTIMEZONE
BEGIN:VEVENT
UID:8d77dc28-c326-4bcd-91bd-7d87760e9211
DTSTAMP:20260424T064205Z
DESCRIPTION:30 April 1965 - Secretary of Defense McNamara approved designat
 ion of the National Cryptologic School. Today with more than 20 campuses\,
  four cryptologic centers\, and six cryptologic training schools\, NSA is 
 a true global training enterprise. With modern\, mission-focused curriculu
 ms\, NSA delivers career development solutions for every stage of your car
 eer.\n\nPhoto is from the NSA 60th anniversary timeline: NSA Director LTG 
 Marshall S. Carter\, USA\, observes class in progress during a 1967 visit.
DTSTART;TZID=America/New_York:20260430T000000
DTEND;TZID=America/New_York:20260430T235900
LOCATION:
SUMMARY:1965: National Cryptologic School Approved
END:VEVENT
END:VCALENDAR
