BEGIN:VCALENDAR
VERSION:2.0
PRODID:-//archive.cryptologicfoundation.org//NONSGML kigkonsult.se iCalcrea
 tor 2.30.10//
CALSCALE:GREGORIAN
METHOD:PUBLISH
UID:c84dc9de-815e-438c-a1c2-29239497f1f5
X-WR-CALDESC:In May 1991\, the annual Travis Trophy for operational excelle
 nce was presented by President George H. W. Bush at NSA to the Air Force's
  690th Electronic Security Wing\, Berlin. He also presented the Director's
  Trophy to the USMC First Radio Battalion\, Kanohe Bay\, Hawaii. And durin
 g a speech outside the OPS 2A Building\, he praised NSA employees for thei
 r support during the recently concluded Operation DESERT STORM. \n\nThe Tr
 avis Trophy was initially presented by Sir Edward Travis\, first Director\
 , GCHQ\, to the U.S. Army Security Agency and the U.S. Naval Communication
 s Supplementary Activity in 1945 as an award for competitive games. In 196
 4\, with the consent of GCHQ Director Sir Clive Loehnis\, it was redesigne
 d by former Director\, NSA\, Lt. Gen. Gordon A. Blake\, USAF\, as an annua
 l award to be presented to the U.S. Cryptologic field station making the m
 ost significant contribution.
X-WR-RELCALID:beb83289eb9c187b1e4ed6cb86690345
X-WR-TIMEZONE:America/New_York
BEGIN:VTIMEZONE
TZID:America/New_York
BEGIN:STANDARD
TZNAME:EST
DTSTART:20251102T020000
TZOFFSETFROM:-0400
TZOFFSETTO:-0500
RDATE:20261101T020000
END:STANDARD
BEGIN:DAYLIGHT
TZNAME:EDT
DTSTART:20260308T020000
TZOFFSETFROM:-0500
TZOFFSETTO:-0400
RDATE:20270314T020000
END:DAYLIGHT
END:VTIMEZONE
BEGIN:VEVENT
UID:551df3b0-06d8-4563-b9f7-c80b7652c265
DTSTAMP:20260424T074058Z
DESCRIPTION:In May 1991\, the annual Travis Trophy for operational excellen
 ce was presented by President George H. W. Bush at NSA to the Air Force's 
 690th Electronic Security Wing\, Berlin. He also presented the Director's 
 Trophy to the USMC First Radio Battalion\, Kanohe Bay\, Hawaii. And during
  a speech outside the OPS 2A Building\, he praised NSA employees for their
  support during the recently concluded Operation DESERT STORM. \n\nThe Tra
 vis Trophy was initially presented by Sir Edward Travis\, first Director\,
  GCHQ\, to the U.S. Army Security Agency and the U.S. Naval Communications
  Supplementary Activity in 1945 as an award for competitive games. In 1964
 \, with the consent of GCHQ Director Sir Clive Loehnis\, it was redesigned
  by former Director\, NSA\, Lt. Gen. Gordon A. Blake\, USAF\, as an annual
  award to be presented to the U.S. Cryptologic field station making the mo
 st significant contribution.
DTSTART;TZID=America/New_York:20260501T000000
DTEND;TZID=America/New_York:20260501T235900
LOCATION:
SUMMARY:May 1991: Travis Trophy Presentation
END:VEVENT
END:VCALENDAR
