BEGIN:VCALENDAR
VERSION:2.0
PRODID:-//archive.cryptologicfoundation.org//NONSGML kigkonsult.se iCalcrea
 tor 2.30.10//
CALSCALE:GREGORIAN
METHOD:PUBLISH
UID:5a751022-ce9e-445b-90d6-9912b082dc9d
X-WR-CALDESC:4 May 1942: 29 Navajos reported to Fort Defiance\, Arizona\, t
 he first of roughly 400 to be trained as code talkers. Make sure to check 
 the links at the end of the page for more articles about the Code Talkers.
 \n\nChester Nez (see link below) was one of the original 29 Navajo code ta
 lkers and he lied about his age in order to enlist in the U.S. Marines Cor
 p. Then he and the 28 other Navajo men went on to develop a code based upo
 n their native language. That code became invaluable -- saving lives and e
 nabling the success of many operations. This unbreakable communications sy
 stem helped ensure the American defeat of the Japanese in the South Pacifi
 c. \n\nWhile the U.S. had adequate cryptographic systems for written commu
 nications\, the only effective scrambler for voice communications was unsu
 ited for tactical use. The code talkers provided absolute security and spe
 ed of encryption and decryption when seconds counted on the battlefield. T
 heir frontline service\, keeping U.S. tactical communications invulnerable
  to enemy eavesdroppers\, saved thousands of American and Allied lives. \n
 \nAfter the war\, the code talkers were instructed to keep their role in t
 he war secret. The code was finally declassified in 1968\, 23 years after 
 the war's end. In 2013\, the Native American Code Talkers were the first t
 o be inducted as a group into the Cryptologic Hall of Honor. In December 2
 014\, the National Cryptologic Museum updated the Native American Code Tal
 ker Exhibit.
X-WR-RELCALID:2f34c965e8953073a9819883a88404c1
X-WR-TIMEZONE:America/New_York
BEGIN:VTIMEZONE
TZID:America/New_York
BEGIN:STANDARD
TZNAME:EST
DTSTART:20251102T020000
TZOFFSETFROM:-0400
TZOFFSETTO:-0500
RDATE:20261101T020000
END:STANDARD
BEGIN:DAYLIGHT
TZNAME:EDT
DTSTART:20260308T020000
TZOFFSETFROM:-0500
TZOFFSETTO:-0400
RDATE:20270314T020000
END:DAYLIGHT
END:VTIMEZONE
BEGIN:VEVENT
UID:aad9254a-9f02-4d1d-9ded-d3ed644620d1
DTSTAMP:20260424T083620Z
DESCRIPTION:4 May 1942: 29 Navajos reported to Fort Defiance\, Arizona\, th
 e first of roughly 400 to be trained as code talkers. Make sure to check t
 he links at the end of the page for more articles about the Code Talkers.
 \n\nChester Nez (see link below) was one of the original 29 Navajo code ta
 lkers and he lied about his age in order to enlist in the U.S. Marines Cor
 p. Then he and the 28 other Navajo men went on to develop a code based upo
 n their native language. That code became invaluable -- saving lives and e
 nabling the success of many operations. This unbreakable communications sy
 stem helped ensure the American defeat of the Japanese in the South Pacifi
 c. \n\nWhile the U.S. had adequate cryptographic systems for written commu
 nications\, the only effective scrambler for voice communications was unsu
 ited for tactical use. The code talkers provided absolute security and spe
 ed of encryption and decryption when seconds counted on the battlefield. T
 heir frontline service\, keeping U.S. tactical communications invulnerable
  to enemy eavesdroppers\, saved thousands of American and Allied lives. \n
 \nAfter the war\, the code talkers were instructed to keep their role in t
 he war secret. The code was finally declassified in 1968\, 23 years after 
 the war's end. In 2013\, the Native American Code Talkers were the first t
 o be inducted as a group into the Cryptologic Hall of Honor. In December 2
 014\, the National Cryptologic Museum updated the Native American Code Tal
 ker Exhibit.
DTSTART;TZID=America/New_York:20260504T060000
DTEND;TZID=America/New_York:20260504T060001
LOCATION:
SUMMARY:1942: 29 Navajos Reported to Fort Defiance\, AZ
END:VEVENT
END:VCALENDAR
