BEGIN:VCALENDAR
VERSION:2.0
PRODID:-//archive.cryptologicfoundation.org//NONSGML kigkonsult.se iCalcrea
 tor 2.30.10//
CALSCALE:GREGORIAN
METHOD:PUBLISH
UID:1d8d0240-ce31-42bd-b800-3e8c60bf6ca1
X-WR-CALDESC:7 May 1942: 837 Signal Security Detachment\, first U.S. SIGINT
 ers arrive in Australia.
X-WR-RELCALID:46bd24e101a95dbe375d7bc8a3fdaa6d
X-WR-TIMEZONE:America/New_York
BEGIN:VTIMEZONE
TZID:America/New_York
BEGIN:STANDARD
TZNAME:EST
DTSTART:20251102T020000
TZOFFSETFROM:-0400
TZOFFSETTO:-0500
RDATE:20261101T020000
END:STANDARD
BEGIN:DAYLIGHT
TZNAME:EDT
DTSTART:20260308T020000
TZOFFSETFROM:-0500
TZOFFSETTO:-0400
RDATE:20270314T020000
END:DAYLIGHT
END:VTIMEZONE
BEGIN:VEVENT
UID:249ceaf2-00a2-49ad-8770-b79140b09d45
DTSTAMP:20260424T074145Z
DESCRIPTION:7 May 1942: 837 Signal Security Detachment\, first U.S. SIGINTe
 rs arrive in Australia.
DTSTART;TZID=America/New_York:20260507T000000
DTEND;TZID=America/New_York:20260507T235900
LOCATION:
SUMMARY:1942: First SIGINTers arrive in Australia
END:VEVENT
END:VCALENDAR
