BEGIN:VCALENDAR
VERSION:2.0
PRODID:-//archive.cryptologicfoundation.org//NONSGML kigkonsult.se iCalcrea
 tor 2.30.10//
CALSCALE:GREGORIAN
METHOD:PUBLISH
UID:5cb4c46d-4f29-4540-ade7-0a006df284cb
X-WR-CALDESC:8 May 1945: VE Day - end of war in Europe! \n\nPhoto from www.
 nationalww2museum.org
X-WR-RELCALID:05380380ff677e3bbacece66e77c4640
X-WR-TIMEZONE:America/New_York
BEGIN:VTIMEZONE
TZID:America/New_York
BEGIN:STANDARD
TZNAME:EST
DTSTART:20251102T020000
TZOFFSETFROM:-0400
TZOFFSETTO:-0500
RDATE:20261101T020000
RDATE:20271107T020000
END:STANDARD
BEGIN:DAYLIGHT
TZNAME:EDT
DTSTART:20260308T020000
TZOFFSETFROM:-0500
TZOFFSETTO:-0400
RDATE:20270314T020000
END:DAYLIGHT
END:VTIMEZONE
BEGIN:VEVENT
UID:f7eb4bce-8134-4503-84af-96a7c85bf8c1
DTSTAMP:20260424T074058Z
DESCRIPTION:8 May 1945: VE Day - end of war in Europe! \n\nPhoto from www.n
 ationalww2museum.org
DTSTART;TZID=America/New_York:20260508T000000
DTEND;TZID=America/New_York:20260508T235900
LOCATION:
SUMMARY:1945: VE Day
END:VEVENT
END:VCALENDAR
