BEGIN:VCALENDAR
VERSION:2.0
PRODID:-//archive.cryptologicfoundation.org//NONSGML kigkonsult.se iCalcrea
 tor 2.30.10//
CALSCALE:GREGORIAN
METHOD:PUBLISH
UID:6ab0a9c4-d670-49e8-af70-d0157a87a2f2
X-WR-CALDESC:8 May 1985: LTG William Odom\, USA\, became the Director of NS
 A. In this photo\, President Ronald Reagan is presenting LTG Odom with the
  National Security Medal. \n\nThe citation said the following: 'LTG Odom h
 as distinguished himself as an intelligence officer of the highest caliber
 \, a skillful leader and an expert of wide renown on the Soviet Union. As 
 the Director NSA/Chief CSS\, he has\, through bold initiative\, inspired i
 magination\, and unparalleled strength of leadership\, set the U.S. Signal
 s Intelligence System on a proper course to meet the formidable challenges
  of today and of the future. LTG Odom leaves a legacy to this Agency\, the
  Intelligence Community and this country that reflects the ultimate in ded
 ication\, commitment and excellence.'
X-WR-RELCALID:b0e73a5fc289cdd6a3be010526cd292b
X-WR-TIMEZONE:America/New_York
BEGIN:VTIMEZONE
TZID:America/New_York
BEGIN:STANDARD
TZNAME:EST
DTSTART:20251102T020000
TZOFFSETFROM:-0400
TZOFFSETTO:-0500
RDATE:20261101T020000
RDATE:20271107T020000
END:STANDARD
BEGIN:DAYLIGHT
TZNAME:EDT
DTSTART:20260308T020000
TZOFFSETFROM:-0500
TZOFFSETTO:-0400
RDATE:20270314T020000
END:DAYLIGHT
END:VTIMEZONE
BEGIN:VEVENT
UID:5d5f29a3-4fba-4104-bc16-a5e6b8768f78
DTSTAMP:20260424T081637Z
DESCRIPTION:8 May 1985: LTG William Odom\, USA\, became the Director of NSA
 . In this photo\, President Ronald Reagan is presenting LTG Odom with the 
 National Security Medal. \n\nThe citation said the following: 'LTG Odom ha
 s distinguished himself as an intelligence officer of the highest caliber\
 , a skillful leader and an expert of wide renown on the Soviet Union. As t
 he Director NSA/Chief CSS\, he has\, through bold initiative\, inspired im
 agination\, and unparalleled strength of leadership\, set the U.S. Signals
  Intelligence System on a proper course to meet the formidable challenges 
 of today and of the future. LTG Odom leaves a legacy to this Agency\, the 
 Intelligence Community and this country that reflects the ultimate in dedi
 cation\, commitment and excellence.'
DTSTART;TZID=America/New_York:20260508T000000
DTEND;TZID=America/New_York:20260508T235900
LOCATION:
SUMMARY:1985: LTG William Odom\, USA\, became DIRNSA.
END:VEVENT
END:VCALENDAR
