BEGIN:VCALENDAR
VERSION:2.0
PRODID:-//archive.cryptologicfoundation.org//NONSGML kigkonsult.se iCalcrea
 tor 2.30.10//
CALSCALE:GREGORIAN
METHOD:PUBLISH
UID:79094b38-796f-4909-9524-94757a30c667
X-WR-CALDESC:10 May 1933: The U.S. Senate debated the bill 'Protection of G
 overnment Records' to establish Information Security as U.S. government re
 sponsibility.
X-WR-RELCALID:710c281dc6e16f64338b772bb024a9da
X-WR-TIMEZONE:America/New_York
BEGIN:VTIMEZONE
TZID:America/New_York
BEGIN:STANDARD
TZNAME:EST
DTSTART:20251102T020000
TZOFFSETFROM:-0400
TZOFFSETTO:-0500
RDATE:20261101T020000
RDATE:20271107T020000
END:STANDARD
BEGIN:DAYLIGHT
TZNAME:EDT
DTSTART:20260308T020000
TZOFFSETFROM:-0500
TZOFFSETTO:-0400
RDATE:20270314T020000
END:DAYLIGHT
END:VTIMEZONE
BEGIN:VEVENT
UID:04bfaf4e-79dc-4904-bed7-c0f1bcc6dc94
DTSTAMP:20260424T081950Z
DESCRIPTION:10 May 1933: The U.S. Senate debated the bill 'Protection of Go
 vernment Records' to establish Information Security as U.S. government res
 ponsibility.
DTSTART;TZID=America/New_York:20260510T000000
DTEND;TZID=America/New_York:20260510T235900
LOCATION:
SUMMARY:1933: U.S. Senate debates Information Security as government respon
 sibility.
END:VEVENT
END:VCALENDAR
