BEGIN:VCALENDAR
VERSION:2.0
PRODID:-//archive.cryptologicfoundation.org//NONSGML kigkonsult.se iCalcrea
 tor 2.30.10//
CALSCALE:GREGORIAN
METHOD:PUBLISH
UID:6ab06234-4e3d-4178-8ae8-223059467b13
X-WR-CALDESC:12 May 1975: the Cambodian Navy seized the U.S. freighter\, SS
  Mayaguez. The battle between the U.S. and Khmer Rouge Cambodian was the l
 ast battle of the Viet Nam War. Image is a US Navy photo of Marines boardi
 ng the Mayaguez wearing gas masks.
X-WR-RELCALID:dd2dead7bfd19c638e3745ba6fcf968c
X-WR-TIMEZONE:America/New_York
BEGIN:VTIMEZONE
TZID:America/New_York
BEGIN:STANDARD
TZNAME:EST
DTSTART:20251102T020000
TZOFFSETFROM:-0400
TZOFFSETTO:-0500
RDATE:20261101T020000
RDATE:20271107T020000
END:STANDARD
BEGIN:DAYLIGHT
TZNAME:EDT
DTSTART:20260308T020000
TZOFFSETFROM:-0500
TZOFFSETTO:-0400
RDATE:20270314T020000
END:DAYLIGHT
END:VTIMEZONE
BEGIN:VEVENT
UID:4b6cd840-2829-4030-ad31-16e7995568a4
DTSTAMP:20260424T074359Z
DESCRIPTION:12 May 1975: the Cambodian Navy seized the U.S. freighter\, SS 
 Mayaguez. The battle between the U.S. and Khmer Rouge Cambodian was the la
 st battle of the Viet Nam War. Image is a US Navy photo of Marines boardin
 g the Mayaguez wearing gas masks.
DTSTART;TZID=America/New_York:20260512T000000
DTEND;TZID=America/New_York:20260512T235900
LOCATION:
SUMMARY:1975: Cambodian communists captured SS Mayaguez.
END:VEVENT
END:VCALENDAR
