BEGIN:VCALENDAR
VERSION:2.0
PRODID:-//archive.cryptologicfoundation.org//NONSGML kigkonsult.se iCalcrea
 tor 2.30.10//
CALSCALE:GREGORIAN
METHOD:PUBLISH
UID:77622c59-bea5-4680-b533-6450ba9e6c51
X-WR-CALDESC:12 May 1900: Joseph Rochefort\, naval cryptologist who led Sta
 tion HYPO\, was born in Dayton\, Ohio. Station HYPO was the U.S. Navy’s si
 gnals monitoring and cryptographic intelligence unit at Pearl Harbor\, and
  was responsible for breaking the Japanese navy’s code before the Battle o
 f Midway.\n\nIf you'd like to learn more about Joseph Rochefort\, don't mi
 ss Elliot Carlson's book\, 'Joe Rochefort's War\,' which covers not only t
 he military strategy and intelligence background\, but also the personalit
 y and politics surrounding Rochefort and significant events he participate
 d in. Learn more about the book via the link below.
X-WR-RELCALID:81f8027076e7c26ca2aa90cadc615fae
X-WR-TIMEZONE:America/New_York
BEGIN:VTIMEZONE
TZID:America/New_York
BEGIN:STANDARD
TZNAME:EST
DTSTART:20251102T020000
TZOFFSETFROM:-0400
TZOFFSETTO:-0500
RDATE:20261101T020000
RDATE:20271107T020000
END:STANDARD
BEGIN:DAYLIGHT
TZNAME:EDT
DTSTART:20260308T020000
TZOFFSETFROM:-0500
TZOFFSETTO:-0400
RDATE:20270314T020000
END:DAYLIGHT
END:VTIMEZONE
BEGIN:VEVENT
UID:198b1589-df55-4f37-b964-10e3e3bd7e5f
DTSTAMP:20260424T074411Z
DESCRIPTION:12 May 1900: Joseph Rochefort\, naval cryptologist who led Stat
 ion HYPO\, was born in Dayton\, Ohio. Station HYPO was the U.S. Navy’s sig
 nals monitoring and cryptographic intelligence unit at Pearl Harbor\, and 
 was responsible for breaking the Japanese navy’s code before the Battle of
  Midway.\n\nIf you'd like to learn more about Joseph Rochefort\, don't mis
 s Elliot Carlson's book\, 'Joe Rochefort's War\,' which covers not only th
 e military strategy and intelligence background\, but also the personality
  and politics surrounding Rochefort and significant events he participated
  in. Learn more about the book via the link below.
DTSTART;TZID=America/New_York:20260512T060000
DTEND;TZID=America/New_York:20260512T060001
LOCATION:
SUMMARY:1900: Naval cryptologist Joseph Rochefort was born.
END:VEVENT
END:VCALENDAR
