BEGIN:VCALENDAR
VERSION:2.0
PRODID:-//archive.cryptologicfoundation.org//NONSGML kigkonsult.se iCalcrea
 tor 2.30.10//
CALSCALE:GREGORIAN
METHOD:PUBLISH
UID:a6a32975-4d43-4a4e-99c5-b50f1b5b104b
X-WR-CALDESC:On 13 May 1961\, the first contingent of Army Security Agency 
 personnel arrived in South Vietnam (setting up an organization at Tan Son 
 Nhut Air Base) to provide support to the U.S. Military Assistance Advisory
  Group and help train the South Vietnamese Army. During the early years of
  conflict\, ASA troops in Vietnam were assigned to the 3rd Radio Research 
 Unit. Their primary mission was to locate Viet Cong transmitters operating
  in the south. \n\nThis mission was in its early stages when one of their 
 direction finding (DF) operators\, <b>SP4 James T. Davis\,</b> was killed 
 in a Viet Cong ambush on a road outside Saigon. The date of the ambush\, 2
 2 December 1961\, made Davis the <b>first American cryptologist to lose hi
 s life during the Vietnam War.</b> Click the link below to learn about SP4
  Davis in a special NSA pdf. \n\nSP4 Davis' name is engraved on the NSA/CS
 S Cryptologic Memorial Wall. The wall\, dedicated in 1996\, lists the name
 s of 176 Army\, Navy\, Air Force\, Marine\, and civilian cryptologists who
  have made the ultimate sacrifice\, 'serving in silence\,' in the performa
 nce of their duties since World War II. Learn more via the links below.
X-WR-RELCALID:19c60db8314177e97793b1c519cb3476
X-WR-TIMEZONE:America/New_York
BEGIN:VTIMEZONE
TZID:America/New_York
BEGIN:STANDARD
TZNAME:EST
DTSTART:20251102T020000
TZOFFSETFROM:-0400
TZOFFSETTO:-0500
RDATE:20261101T020000
RDATE:20271107T020000
END:STANDARD
BEGIN:DAYLIGHT
TZNAME:EDT
DTSTART:20260308T020000
TZOFFSETFROM:-0500
TZOFFSETTO:-0400
RDATE:20270314T020000
END:DAYLIGHT
END:VTIMEZONE
BEGIN:VEVENT
UID:314dc518-039a-4ce8-a61b-a0bc2bf58c5a
DTSTAMP:20260424T074927Z
DESCRIPTION:On 13 May 1961\, the first contingent of Army Security Agency p
 ersonnel arrived in South Vietnam (setting up an organization at Tan Son N
 hut Air Base) to provide support to the U.S. Military Assistance Advisory 
 Group and help train the South Vietnamese Army. During the early years of 
 conflict\, ASA troops in Vietnam were assigned to the 3rd Radio Research U
 nit. Their primary mission was to locate Viet Cong transmitters operating 
 in the south. \n\nThis mission was in its early stages when one of their d
 irection finding (DF) operators\, <b>SP4 James T. Davis\,</b> was killed i
 n a Viet Cong ambush on a road outside Saigon. The date of the ambush\, 22
  December 1961\, made Davis the <b>first American cryptologist to lose his
  life during the Vietnam War.</b> Click the link below to learn about SP4 
 Davis in a special NSA pdf. \n\nSP4 Davis' name is engraved on the NSA/CSS
  Cryptologic Memorial Wall. The wall\, dedicated in 1996\, lists the names
  of 176 Army\, Navy\, Air Force\, Marine\, and civilian cryptologists who 
 have made the ultimate sacrifice\, 'serving in silence\,' in the performan
 ce of their duties since World War II. Learn more via the links below.
DTSTART;TZID=America/New_York:20260513T000000
DTEND;TZID=America/New_York:20260513T235900
LOCATION:
SUMMARY:1961: Third Radio Research Unit began Army Security Agency service 
 in South Vietnam.
END:VEVENT
END:VCALENDAR
