BEGIN:VCALENDAR
VERSION:2.0
PRODID:-//archive.cryptologicfoundation.org//NONSGML kigkonsult.se iCalcrea
 tor 2.30.10//
CALSCALE:GREGORIAN
METHOD:PUBLISH
UID:340ad538-a5a3-481d-aebe-262d7fc57109
X-WR-CALDESC:15 May 1973: The National Bureau of Standards (in cooperation 
 with NSA) began solicitation for a government-wide data encryption standar
 d. DES was adopted three and a half years later.
X-WR-RELCALID:bfb6e5581438d54dcb346c1cbce21dd2
X-WR-TIMEZONE:America/New_York
BEGIN:VTIMEZONE
TZID:America/New_York
BEGIN:STANDARD
TZNAME:EST
DTSTART:20251102T020000
TZOFFSETFROM:-0400
TZOFFSETTO:-0500
RDATE:20261101T020000
RDATE:20271107T020000
END:STANDARD
BEGIN:DAYLIGHT
TZNAME:EDT
DTSTART:20260308T020000
TZOFFSETFROM:-0500
TZOFFSETTO:-0400
RDATE:20270314T020000
END:DAYLIGHT
END:VTIMEZONE
BEGIN:VEVENT
UID:496c645e-30fd-4914-86c2-1cf555bc1fbb
DTSTAMP:20260424T080455Z
DESCRIPTION:15 May 1973: The National Bureau of Standards (in cooperation w
 ith NSA) began solicitation for a government-wide data encryption standard
 . DES was adopted three and a half years later.
DTSTART;TZID=America/New_York:20260515T000000
DTEND;TZID=America/New_York:20260515T235900
LOCATION:
SUMMARY:1973: Search for government-wide data encryption standard begins.
END:VEVENT
END:VCALENDAR
