BEGIN:VCALENDAR
VERSION:2.0
PRODID:-//archive.cryptologicfoundation.org//NONSGML kigkonsult.se iCalcrea
 tor 2.30.10//
CALSCALE:GREGORIAN
METHOD:PUBLISH
UID:e22b8b7a-d0da-40dd-b2d6-5f0113011466
X-WR-CALDESC:16 May 1973: CAPT Laurance Safford\, USN\, father of naval cry
 ptology\, died. Captain Safford established the Naval cryptologic organiza
 tion after World War I\, and headed the effort more or less constantly unt
 il shortly after the Japanese attack on Pearl Harbor. His identification w
 ith the Naval cryptologic effort was so close that he was often referred t
 o as the <b>Friedman of the Navy.</b>\n\nLaurance Safford was inducted int
 o the NSA Cryptologic Hall of Honor in 1999. Read more about his life and 
 accomplishments via his Hall of Honor page on the NSA site via the link be
 low.
X-WR-RELCALID:56e5fc5b0de0f2584804e8b1f4fe130e
X-WR-TIMEZONE:America/New_York
BEGIN:VTIMEZONE
TZID:America/New_York
BEGIN:STANDARD
TZNAME:EST
DTSTART:20251102T020000
TZOFFSETFROM:-0400
TZOFFSETTO:-0500
RDATE:20261101T020000
RDATE:20271107T020000
END:STANDARD
BEGIN:DAYLIGHT
TZNAME:EDT
DTSTART:20260308T020000
TZOFFSETFROM:-0500
TZOFFSETTO:-0400
RDATE:20270314T020000
END:DAYLIGHT
END:VTIMEZONE
BEGIN:VEVENT
UID:b645221f-1cfc-4070-9d13-957b66645362
DTSTAMP:20260424T074744Z
DESCRIPTION:16 May 1973: CAPT Laurance Safford\, USN\, father of naval cryp
 tology\, died. Captain Safford established the Naval cryptologic organizat
 ion after World War I\, and headed the effort more or less constantly unti
 l shortly after the Japanese attack on Pearl Harbor. His identification wi
 th the Naval cryptologic effort was so close that he was often referred to
  as the <b>Friedman of the Navy.</b>\n\nLaurance Safford was inducted into
  the NSA Cryptologic Hall of Honor in 1999. Read more about his life and a
 ccomplishments via his Hall of Honor page on the NSA site via the link bel
 ow.
DTSTART;TZID=America/New_York:20260516T060000
DTEND;TZID=America/New_York:20260516T060001
LOCATION:
SUMMARY:1973: Laurance Safford\, father of naval cryptology\, died.
END:VEVENT
END:VCALENDAR
