BEGIN:VCALENDAR
VERSION:2.0
PRODID:-//archive.cryptologicfoundation.org//NONSGML kigkonsult.se iCalcrea
 tor 2.30.10//
CALSCALE:GREGORIAN
METHOD:PUBLISH
UID:8e111917-da18-4dae-bfe3-ee6d64b450cd
X-WR-CALDESC:17 May 1985: Electronic Security Command took over USAF COMSEC
  mission.
X-WR-RELCALID:de2fcdbdb4e0301c5fb8d4862cce2dd4
X-WR-TIMEZONE:America/New_York
BEGIN:VTIMEZONE
TZID:America/New_York
BEGIN:STANDARD
TZNAME:EST
DTSTART:20251102T020000
TZOFFSETFROM:-0400
TZOFFSETTO:-0500
RDATE:20261101T020000
RDATE:20271107T020000
END:STANDARD
BEGIN:DAYLIGHT
TZNAME:EDT
DTSTART:20260308T020000
TZOFFSETFROM:-0500
TZOFFSETTO:-0400
RDATE:20270314T020000
END:DAYLIGHT
END:VTIMEZONE
BEGIN:VEVENT
UID:0fe2a748-9126-4651-aa94-2f2988d96df0
DTSTAMP:20260424T074037Z
DESCRIPTION:17 May 1985: Electronic Security Command took over USAF COMSEC 
 mission.
DTSTART;TZID=America/New_York:20260517T000000
DTEND;TZID=America/New_York:20260517T235900
LOCATION:
SUMMARY:1985: Electronic Security Command took over USAF COMSEC mission.
END:VEVENT
END:VCALENDAR
