BEGIN:VCALENDAR
VERSION:2.0
PRODID:-//archive.cryptologicfoundation.org//NONSGML kigkonsult.se iCalcrea
 tor 2.30.10//
CALSCALE:GREGORIAN
METHOD:PUBLISH
UID:a5c01f37-fcd8-45e3-be3f-511d92513428
X-WR-CALDESC:17 May 1987: 37 were killed when Iraqi aircraft fired Exocet m
 issiles at USS Stark. Two missiles from an Iraqi F-1 Mirage warplane struc
 k the USS Stark\, killing 37 of the sailors aboard. The frigate was a memb
 er of a US naval task force sent to the Persian Gulf to keep the Gulf open
  for shipping during the Iran-Iraq War. The first missile bored deep into 
 the ship but failed to explode\; the second missile exploded\, incineratin
 g the crew’s quarters\, the radar room\, and the combat information center
 . The ship burned for two days. Twenty nine people died from the initial e
 xplosion and fire\, including two lost at sea. Eight would later die from 
 their injuries. Twenty-one others survived their wounds.\n\nPhoto info: 'U
 SS Stark' by Service Depicted: NavyCommand Shown: N1601 - ID:DNSC8706412. 
 Licensed under Public Domain via Wikimedia Commons - http://commons.wikime
 dia.org/wiki/File:USS_Stark.jpg#/media/File:USS_Stark.jpg
X-WR-RELCALID:6538e0a5f3cd162892896bbb635be0be
X-WR-TIMEZONE:America/New_York
BEGIN:VTIMEZONE
TZID:America/New_York
BEGIN:STANDARD
TZNAME:EST
DTSTART:20251102T020000
TZOFFSETFROM:-0400
TZOFFSETTO:-0500
RDATE:20261101T020000
RDATE:20271107T020000
END:STANDARD
BEGIN:DAYLIGHT
TZNAME:EDT
DTSTART:20260308T020000
TZOFFSETFROM:-0500
TZOFFSETTO:-0400
RDATE:20270314T020000
END:DAYLIGHT
END:VTIMEZONE
BEGIN:VEVENT
UID:14f01d38-297c-4160-9442-241cba01f6db
DTSTAMP:20260424T064700Z
DESCRIPTION:17 May 1987: 37 were killed when Iraqi aircraft fired Exocet mi
 ssiles at USS Stark. Two missiles from an Iraqi F-1 Mirage warplane struck
  the USS Stark\, killing 37 of the sailors aboard. The frigate was a membe
 r of a US naval task force sent to the Persian Gulf to keep the Gulf open 
 for shipping during the Iran-Iraq War. The first missile bored deep into t
 he ship but failed to explode\; the second missile exploded\, incinerating
  the crew’s quarters\, the radar room\, and the combat information center.
  The ship burned for two days. Twenty nine people died from the initial ex
 plosion and fire\, including two lost at sea. Eight would later die from t
 heir injuries. Twenty-one others survived their wounds.\n\nPhoto info: 'US
 S Stark' by Service Depicted: NavyCommand Shown: N1601 - ID:DNSC8706412. L
 icensed under Public Domain via Wikimedia Commons - http://commons.wikimed
 ia.org/wiki/File:USS_Stark.jpg#/media/File:USS_Stark.jpg
DTSTART;TZID=America/New_York:20260517T000000
DTEND;TZID=America/New_York:20260517T235900
LOCATION:
SUMMARY:1987: Iraqi aircraft fired Exocet missiles at USS Stark.
END:VEVENT
END:VCALENDAR
