BEGIN:VCALENDAR
VERSION:2.0
PRODID:-//archive.cryptologicfoundation.org//NONSGML kigkonsult.se iCalcrea
 tor 2.30.10//
CALSCALE:GREGORIAN
METHOD:PUBLISH
UID:ddbe0c43-f8df-494f-bba2-b8a6d63bf5a9
X-WR-CALDESC:20 May 1949: The Armed Forces Security Agency (AFSA)\, predece
 ssor of NSA\, was established within the Department of Defense\, under the
  command of the Joint Chiefs of Staff. In theory\, the AFSA was to direct 
 the communications intelligence and electronic intelligence activities of 
 the military service signals intelligence units (at the time consisting of
  the Army Security Agency\, Naval Security Group\, and Air Force Security 
 Service). All cryptologic activities were centralized under this national 
 organization. The AFSA was eventually re-designated as the NSA. \n\nLearn 
 more about the 'Origins of NSA' via the NSA article linked below.
X-WR-RELCALID:f975ef520e79192fc641ae3b0234c772
X-WR-TIMEZONE:America/New_York
BEGIN:VTIMEZONE
TZID:America/New_York
BEGIN:STANDARD
TZNAME:EST
DTSTART:20251102T020000
TZOFFSETFROM:-0400
TZOFFSETTO:-0500
RDATE:20261101T020000
RDATE:20271107T020000
END:STANDARD
BEGIN:DAYLIGHT
TZNAME:EDT
DTSTART:20260308T020000
TZOFFSETFROM:-0500
TZOFFSETTO:-0400
RDATE:20270314T020000
END:DAYLIGHT
END:VTIMEZONE
BEGIN:VEVENT
UID:26d45750-29af-42e6-abe4-5ba22b53a723
DTSTAMP:20260424T063257Z
DESCRIPTION:20 May 1949: The Armed Forces Security Agency (AFSA)\, predeces
 sor of NSA\, was established within the Department of Defense\, under the 
 command of the Joint Chiefs of Staff. In theory\, the AFSA was to direct t
 he communications intelligence and electronic intelligence activities of t
 he military service signals intelligence units (at the time consisting of 
 the Army Security Agency\, Naval Security Group\, and Air Force Security S
 ervice). All cryptologic activities were centralized under this national o
 rganization. The AFSA was eventually re-designated as the NSA. \n\nLearn m
 ore about the 'Origins of NSA' via the NSA article linked below.
DTSTART;TZID=America/New_York:20260520T000000
DTEND;TZID=America/New_York:20260520T235900
LOCATION:
SUMMARY:1949: Armed Forces Security Agency created.
END:VEVENT
END:VCALENDAR
