BEGIN:VCALENDAR
VERSION:2.0
PRODID:-//archive.cryptologicfoundation.org//NONSGML kigkonsult.se iCalcrea
 tor 2.30.10//
CALSCALE:GREGORIAN
METHOD:PUBLISH
UID:7cdd90fb-857a-4183-8ea5-89fa76a8ed97
X-WR-CALDESC:20 May 1985: Retired CWO John Walker was arrested for spying. 
 For 18 years\, John A. Walker Jr. sold U.S. secrets to the Soviets\, both 
 as a crypto custodian in the Navy in Norfolk and after he retired. It was 
 estimated that he pocketed about $1 million.  The U.S. Navy communications
  specialist passed classified documents\, including navy code books and re
 ports on movements of submarines and surface ships\, to agents of the Sovi
 et Union. At first obtaining the documents himself while on active duty\, 
 he subsequently recruited a close friend\, a brother\, and his own son int
 o a growing spy ring that he maintained after his retirement from the mili
 tary. The espionage activities of the Walker spy ring were described by so
 me officials as among the gravest security breaches in the history of the 
 U.S. Navy\, and one of the biggest in the nation's history.
X-WR-RELCALID:4391b6a14a35f0be01ffd3bdcb4941f3
X-WR-TIMEZONE:America/New_York
BEGIN:VTIMEZONE
TZID:America/New_York
BEGIN:STANDARD
TZNAME:EST
DTSTART:20251102T020000
TZOFFSETFROM:-0400
TZOFFSETTO:-0500
RDATE:20261101T020000
RDATE:20271107T020000
END:STANDARD
BEGIN:DAYLIGHT
TZNAME:EDT
DTSTART:20260308T020000
TZOFFSETFROM:-0500
TZOFFSETTO:-0400
RDATE:20270314T020000
END:DAYLIGHT
END:VTIMEZONE
BEGIN:VEVENT
UID:e7cc00d9-9163-4db1-b0f2-e036606c84ed
DTSTAMP:20260424T074411Z
DESCRIPTION:20 May 1985: Retired CWO John Walker was arrested for spying. F
 or 18 years\, John A. Walker Jr. sold U.S. secrets to the Soviets\, both a
 s a crypto custodian in the Navy in Norfolk and after he retired. It was e
 stimated that he pocketed about $1 million.  The U.S. Navy communications 
 specialist passed classified documents\, including navy code books and rep
 orts on movements of submarines and surface ships\, to agents of the Sovie
 t Union. At first obtaining the documents himself while on active duty\, h
 e subsequently recruited a close friend\, a brother\, and his own son into
  a growing spy ring that he maintained after his retirement from the milit
 ary. The espionage activities of the Walker spy ring were described by som
 e officials as among the gravest security breaches in the history of the U
 .S. Navy\, and one of the biggest in the nation's history.
DTSTART;TZID=America/New_York:20260520T000000
DTEND;TZID=America/New_York:20260520T235900
LOCATION:
SUMMARY:1985: Retired CWO John Walker was arrested for spying.
END:VEVENT
END:VCALENDAR
