BEGIN:VCALENDAR
VERSION:2.0
PRODID:-//archive.cryptologicfoundation.org//NONSGML kigkonsult.se iCalcrea
 tor 2.30.10//
CALSCALE:GREGORIAN
METHOD:PUBLISH
UID:d23d6a31-1411-438f-b26a-81841b978218
X-WR-CALDESC:21 May 1940: Although the 1934 Communications Act banned wiret
 apping and Supreme Court rulings of 1937 and 1939\, held that this ban app
 lied to federal agents\, FDR authorized wiretapping during 'national defen
 se' investigations. The purpose of these investigations was to anticipate 
 and prevent planned espionage and sabotage.
X-WR-RELCALID:ff5c84504807af0caf90f11be2f082f6
X-WR-TIMEZONE:America/New_York
BEGIN:VTIMEZONE
TZID:America/New_York
BEGIN:STANDARD
TZNAME:EST
DTSTART:20251102T020000
TZOFFSETFROM:-0400
TZOFFSETTO:-0500
RDATE:20261101T020000
RDATE:20271107T020000
END:STANDARD
BEGIN:DAYLIGHT
TZNAME:EDT
DTSTART:20260308T020000
TZOFFSETFROM:-0500
TZOFFSETTO:-0400
RDATE:20270314T020000
END:DAYLIGHT
END:VTIMEZONE
BEGIN:VEVENT
UID:e404b7e2-35e9-4755-810e-69c6411e9db8
DTSTAMP:20260424T064356Z
DESCRIPTION:21 May 1940: Although the 1934 Communications Act banned wireta
 pping and Supreme Court rulings of 1937 and 1939\, held that this ban appl
 ied to federal agents\, FDR authorized wiretapping during 'national defens
 e' investigations. The purpose of these investigations was to anticipate a
 nd prevent planned espionage and sabotage.
DTSTART;TZID=America/New_York:20260521T000000
DTEND;TZID=America/New_York:20260521T235900
LOCATION:
SUMMARY:1940: FDR authorized wiretapping to watch German agents.
END:VEVENT
END:VCALENDAR
