BEGIN:VCALENDAR
VERSION:2.0
PRODID:-//archive.cryptologicfoundation.org//NONSGML kigkonsult.se iCalcrea
 tor 2.30.10//
CALSCALE:GREGORIAN
METHOD:PUBLISH
UID:e1e1582a-7262-4bfa-af7f-62bbb0991332
X-WR-CALDESC:21 May 1975: The William F. Friedman Auditorium was dedicated 
 at NSA. \n\nLearn more about William Friedman via the link below.
X-WR-RELCALID:a3f9d2a39106ebe111d04dcdeefef10b
X-WR-TIMEZONE:America/New_York
BEGIN:VTIMEZONE
TZID:America/New_York
BEGIN:STANDARD
TZNAME:EST
DTSTART:20251102T020000
TZOFFSETFROM:-0400
TZOFFSETTO:-0500
RDATE:20261101T020000
RDATE:20271107T020000
END:STANDARD
BEGIN:DAYLIGHT
TZNAME:EDT
DTSTART:20260308T020000
TZOFFSETFROM:-0500
TZOFFSETTO:-0400
RDATE:20270314T020000
END:DAYLIGHT
END:VTIMEZONE
BEGIN:VEVENT
UID:024ce4d9-d85b-4375-9e3a-4dbcd76cef1b
DTSTAMP:20260424T090924Z
DESCRIPTION:21 May 1975: The William F. Friedman Auditorium was dedicated a
 t NSA. \n\nLearn more about William Friedman via the link below.
DTSTART;TZID=America/New_York:20260521T000000
DTEND;TZID=America/New_York:20260521T235900
LOCATION:
SUMMARY:1975: William F. Friedman Auditorium dedicated at NSA.
END:VEVENT
END:VCALENDAR
