BEGIN:VCALENDAR
VERSION:2.0
PRODID:-//archive.cryptologicfoundation.org//NONSGML kigkonsult.se iCalcrea
 tor 2.30.10//
CALSCALE:GREGORIAN
METHOD:PUBLISH
UID:2b0dcb75-0179-4403-a771-b86244489655
X-WR-CALDESC:22 May 1992: VADM Michael McConnell\, USN\, became DIRNSA. \n
 \nExcerpt from Wikipedia:  McConnell served as Director of NSA to 1996. He
  led NSA as it adapted to the multi-polar threats brought about by the end
  of the Cold War. Under his leadership\, NSA routinely provided global int
 elligence and information security services to the White House\, Cabinet o
 fficials\, the United States Congress\, and a broad array of military and 
 civilian intelligence customers. He also served as a member of the Directo
 r of Central Intelligence senior leadership team to address major intellig
 ence programmatic and substantive issues from 1992 until 1996.\n\nIn 1996\
 , McConnell retired from the Navy as a vice admiral after 29 years of serv
 ice - 26 as a career Intelligence Officer. In addition to many of the nati
 on's highest military awards for meritorious service\, he holds the nation
 's highest award for service in the Intelligence Community. He also served
  as the Chairman of the Intelligence and National Security Alliance. \n\nM
 cConnell is the second person to hold the position of Director of National
  Intelligence. He was nominated by President George W. Bush on January 5\,
  2007\, and was sworn in at Bolling Air Force Base in Washington\, D.C. on
  February 20\, 2007.
X-WR-RELCALID:14c2a13151101c93547e8e997821d4d3
X-WR-TIMEZONE:America/New_York
BEGIN:VTIMEZONE
TZID:America/New_York
BEGIN:STANDARD
TZNAME:EST
DTSTART:20251102T020000
TZOFFSETFROM:-0400
TZOFFSETTO:-0500
RDATE:20261101T020000
RDATE:20271107T020000
END:STANDARD
BEGIN:DAYLIGHT
TZNAME:EDT
DTSTART:20260308T020000
TZOFFSETFROM:-0500
TZOFFSETTO:-0400
RDATE:20270314T020000
END:DAYLIGHT
END:VTIMEZONE
BEGIN:VEVENT
UID:3c3508c9-4852-42d0-82e9-f638bcd9a9c8
DTSTAMP:20260424T074232Z
DESCRIPTION:22 May 1992: VADM Michael McConnell\, USN\, became DIRNSA. \n\n
 Excerpt from Wikipedia:  McConnell served as Director of NSA to 1996. He l
 ed NSA as it adapted to the multi-polar threats brought about by the end o
 f the Cold War. Under his leadership\, NSA routinely provided global intel
 ligence and information security services to the White House\, Cabinet off
 icials\, the United States Congress\, and a broad array of military and ci
 vilian intelligence customers. He also served as a member of the Director 
 of Central Intelligence senior leadership team to address major intelligen
 ce programmatic and substantive issues from 1992 until 1996.\n\nIn 1996\, 
 McConnell retired from the Navy as a vice admiral after 29 years of servic
 e - 26 as a career Intelligence Officer. In addition to many of the nation
 's highest military awards for meritorious service\, he holds the nation's
  highest award for service in the Intelligence Community. He also served a
 s the Chairman of the Intelligence and National Security Alliance. \n\nMcC
 onnell is the second person to hold the position of Director of National I
 ntelligence. He was nominated by President George W. Bush on January 5\, 2
 007\, and was sworn in at Bolling Air Force Base in Washington\, D.C. on F
 ebruary 20\, 2007.
DTSTART;TZID=America/New_York:20260522T000000
DTEND;TZID=America/New_York:20260522T235900
LOCATION:
SUMMARY:1992: VADM Michael McConnell\, USN\, became DIRNSA.
END:VEVENT
END:VCALENDAR
