BEGIN:VCALENDAR
VERSION:2.0
PRODID:-//archive.cryptologicfoundation.org//NONSGML kigkonsult.se iCalcrea
 tor 2.30.10//
CALSCALE:GREGORIAN
METHOD:PUBLISH
UID:9988246c-6666-486c-87de-278cd5a390aa
X-WR-CALDESC:22 May 1881: Death of Friedrich Wilhelm Kasiski\, a German inf
 antry officer and cryptographer who developed a solution for polyalphabeti
 c cipher. In 1863\, Kasiski published a 95-page book on cryptography\, <i>
 Die Geheimschriften und die Dechiffrir-Kunst</i> (German\, 'Secret writing
  and the Art of Deciphering'). This was the first published account of a p
 rocedure for attacking polyalphabetic substitution ciphers\, especially th
 e Vigenère cipher.\n\nIn 2013\, the NCMF was fortunate to obtain a copy of
  <a href='https://cryptologicfoundation.org/community/cryptologic-history/
 museum-support/acquisitions/acquisitionarchivessection/books_publications_
 section/germancryptology_book.html' target='_blank' rel='noreferrer noopen
 er'>Kasiski's very rare 1863 German language book on cryptology from a pri
 vate European seller.</a>\n\nThe significance of Kasiski's cryptanalytic w
 ork was not widely realized at the time. Cryptologic historian Dr. David K
 ahn notes\, 'Kasiski died on May 22\, 1881\, almost certainly without real
 izing that he had wrought a revolution in cryptology.' (<i>The Codebreaker
 s</i>)
X-WR-RELCALID:448ca856a1ced3b1f54daec2894b90e7
X-WR-TIMEZONE:America/New_York
BEGIN:VTIMEZONE
TZID:America/New_York
BEGIN:STANDARD
TZNAME:EST
DTSTART:20251102T020000
TZOFFSETFROM:-0400
TZOFFSETTO:-0500
RDATE:20261101T020000
RDATE:20271107T020000
END:STANDARD
BEGIN:DAYLIGHT
TZNAME:EDT
DTSTART:20260308T020000
TZOFFSETFROM:-0500
TZOFFSETTO:-0400
RDATE:20270314T020000
END:DAYLIGHT
END:VTIMEZONE
BEGIN:VEVENT
UID:1d1c872d-9fc8-4cc8-b751-56b422cd82c5
DTSTAMP:20260424T083335Z
DESCRIPTION:22 May 1881: Death of Friedrich Wilhelm Kasiski\, a German infa
 ntry officer and cryptographer who developed a solution for polyalphabetic
  cipher. In 1863\, Kasiski published a 95-page book on cryptography\, <i>D
 ie Geheimschriften und die Dechiffrir-Kunst</i> (German\, 'Secret writing 
 and the Art of Deciphering'). This was the first published account of a pr
 ocedure for attacking polyalphabetic substitution ciphers\, especially the
  Vigenère cipher.\n\nIn 2013\, the NCMF was fortunate to obtain a copy of 
 <a href='https://cryptologicfoundation.org/community/cryptologic-history/m
 useum-support/acquisitions/acquisitionarchivessection/books_publications_s
 ection/germancryptology_book.html' target='_blank' rel='noreferrer noopene
 r'>Kasiski's very rare 1863 German language book on cryptology from a priv
 ate European seller.</a>\n\nThe significance of Kasiski's cryptanalytic wo
 rk was not widely realized at the time. Cryptologic historian Dr. David Ka
 hn notes\, 'Kasiski died on May 22\, 1881\, almost certainly without reali
 zing that he had wrought a revolution in cryptology.' (<i>The Codebreakers
 </i>)
DTSTART;TZID=America/New_York:20260522T060000
DTEND;TZID=America/New_York:20260522T060001
LOCATION:
SUMMARY:1881: Death of Friedrich Wilhelm Kasiski
END:VEVENT
END:VCALENDAR
