BEGIN:VCALENDAR
VERSION:2.0
PRODID:-//archive.cryptologicfoundation.org//NONSGML kigkonsult.se iCalcrea
 tor 2.30.10//
CALSCALE:GREGORIAN
METHOD:PUBLISH
UID:cad92b83-a879-4db8-a994-b0edf92d8b01
X-WR-CALDESC:23 May 1975: The National Security Council requested a plan fo
 r implementation of Washington Protected Communications Zone and Executive
  Secure Voice Network in response to the Soviet intercept threat.
X-WR-RELCALID:c9f89a9e8e998e4b2e42d3e3c421b37a
X-WR-TIMEZONE:America/New_York
BEGIN:VTIMEZONE
TZID:America/New_York
BEGIN:STANDARD
TZNAME:EST
DTSTART:20251102T020000
TZOFFSETFROM:-0400
TZOFFSETTO:-0500
RDATE:20261101T020000
RDATE:20271107T020000
END:STANDARD
BEGIN:DAYLIGHT
TZNAME:EDT
DTSTART:20260308T020000
TZOFFSETFROM:-0500
TZOFFSETTO:-0400
RDATE:20270314T020000
END:DAYLIGHT
END:VTIMEZONE
BEGIN:VEVENT
UID:be62d8c6-d2b4-4e3c-b342-0d9cd15fa5df
DTSTAMP:20260424T074211Z
DESCRIPTION:23 May 1975: The National Security Council requested a plan for
  implementation of Washington Protected Communications Zone and Executive 
 Secure Voice Network in response to the Soviet intercept threat.
DTSTART;TZID=America/New_York:20260523T000000
DTEND;TZID=America/New_York:20260523T235900
LOCATION:
SUMMARY:1975: National Security Council Seeks Secure Voice Network
END:VEVENT
END:VCALENDAR
