BEGIN:VCALENDAR
VERSION:2.0
PRODID:-//archive.cryptologicfoundation.org//NONSGML kigkonsult.se iCalcrea
 tor 2.30.10//
CALSCALE:GREGORIAN
METHOD:PUBLISH
UID:b503feec-339e-4894-81ad-770dafbd6cb1
X-WR-CALDESC:24 May 1844: The first telegraph message was sent over an expe
 rimental line from Washington\, D.C.\, to Baltimore\, and said: 'What hath
  God wrought?' Taken from the Bible\, Numbers 23:23\, and recorded on a pa
 per tape\, the phrase had been suggested to inventor Samuel B. Morse by An
 nie Ellsworth\, the young daughter of a friend. Standing in the chamber of
  the Supreme Court\, Morse sent the 19-letter message to his assistant Alb
 ert Vail in Baltimore\, who transmitted the message back. Members of Congr
 ess watched the demonstration with fascination much like their countrymen 
 did in future demonstrations. The success of the experiment would change f
 orever the national communication system.
X-WR-RELCALID:d3093bea5fbc5a4ef2dc5ccb735e37df
X-WR-TIMEZONE:America/New_York
BEGIN:VTIMEZONE
TZID:America/New_York
BEGIN:STANDARD
TZNAME:EST
DTSTART:20251102T020000
TZOFFSETFROM:-0400
TZOFFSETTO:-0500
RDATE:20261101T020000
RDATE:20271107T020000
END:STANDARD
BEGIN:DAYLIGHT
TZNAME:EDT
DTSTART:20260308T020000
TZOFFSETFROM:-0500
TZOFFSETTO:-0400
RDATE:20270314T020000
END:DAYLIGHT
END:VTIMEZONE
BEGIN:VEVENT
UID:9a090667-36a8-46c1-88bc-9908aa671841
DTSTAMP:20260424T080359Z
DESCRIPTION:24 May 1844: The first telegraph message was sent over an exper
 imental line from Washington\, D.C.\, to Baltimore\, and said: 'What hath 
 God wrought?' Taken from the Bible\, Numbers 23:23\, and recorded on a pap
 er tape\, the phrase had been suggested to inventor Samuel B. Morse by Ann
 ie Ellsworth\, the young daughter of a friend. Standing in the chamber of 
 the Supreme Court\, Morse sent the 19-letter message to his assistant Albe
 rt Vail in Baltimore\, who transmitted the message back. Members of Congre
 ss watched the demonstration with fascination much like their countrymen d
 id in future demonstrations. The success of the experiment would change fo
 rever the national communication system.
DTSTART;TZID=America/New_York:20260524T000000
DTEND;TZID=America/New_York:20260524T235900
LOCATION:
SUMMARY:1844: First telegraph message was sent.
END:VEVENT
END:VCALENDAR
