BEGIN:VCALENDAR
VERSION:2.0
PRODID:-//archive.cryptologicfoundation.org//NONSGML kigkonsult.se iCalcrea
 tor 2.30.10//
CALSCALE:GREGORIAN
METHOD:PUBLISH
UID:8b11d9b3-00e7-42f7-bce6-3afff26554f7
X-WR-CALDESC:27 May 1962: ASA carried out its first Airborne Platform Missi
 on in Vietnam.
X-WR-RELCALID:1ae4c53b440bca112f2c896d5001d6c7
X-WR-TIMEZONE:America/New_York
BEGIN:VTIMEZONE
TZID:America/New_York
BEGIN:STANDARD
TZNAME:EST
DTSTART:20251102T020000
TZOFFSETFROM:-0400
TZOFFSETTO:-0500
RDATE:20261101T020000
RDATE:20271107T020000
END:STANDARD
BEGIN:DAYLIGHT
TZNAME:EDT
DTSTART:20260308T020000
TZOFFSETFROM:-0500
TZOFFSETTO:-0400
RDATE:20270314T020000
END:DAYLIGHT
END:VTIMEZONE
BEGIN:VEVENT
UID:4b6fc95a-49e7-4bc8-a1c3-854826d9b150
DTSTAMP:20260424T082958Z
DESCRIPTION:27 May 1962: ASA carried out its first Airborne Platform Missio
 n in Vietnam.
DTSTART;TZID=America/New_York:20260527T000000
DTEND;TZID=America/New_York:20260527T235900
LOCATION:
SUMMARY:1962: ASA carried out first Airborne Platform Mission in Vietnam.
END:VEVENT
END:VCALENDAR
