BEGIN:VCALENDAR
VERSION:2.0
PRODID:-//archive.cryptologicfoundation.org//NONSGML kigkonsult.se iCalcrea
 tor 2.30.10//
CALSCALE:GREGORIAN
METHOD:PUBLISH
UID:6a99393d-9ee9-4a49-a2bd-0822df22ffb3
X-WR-CALDESC:29 June 1988: German police broke up the 'Hannover Hackers' fo
 r penetrating US computers.
X-WR-RELCALID:a73e87308d29f4175ed3581f8e2ab158
X-WR-TIMEZONE:America/New_York
BEGIN:VTIMEZONE
TZID:America/New_York
BEGIN:STANDARD
TZNAME:EST
DTSTART:20251102T020000
TZOFFSETFROM:-0400
TZOFFSETTO:-0500
RDATE:20261101T020000
RDATE:20271107T020000
END:STANDARD
BEGIN:DAYLIGHT
TZNAME:EDT
DTSTART:20260308T020000
TZOFFSETFROM:-0500
TZOFFSETTO:-0400
RDATE:20270314T020000
END:DAYLIGHT
END:VTIMEZONE
BEGIN:VEVENT
UID:af3b0415-6445-4719-a4a7-bc6ca4103f56
DTSTAMP:20260424T074723Z
DESCRIPTION:29 June 1988: German police broke up the 'Hannover Hackers' for
  penetrating US computers.
DTSTART;TZID=America/New_York:20260528T000000
DTEND;TZID=America/New_York:20260528T235900
LOCATION:
SUMMARY:1988: German police broke up the 'Hannover Hackers.'
END:VEVENT
END:VCALENDAR
