BEGIN:VCALENDAR
VERSION:2.0
PRODID:-//archive.cryptologicfoundation.org//NONSGML kigkonsult.se iCalcrea
 tor 2.30.10//
CALSCALE:GREGORIAN
METHOD:PUBLISH
UID:3ceee476-c5e2-46d5-bdac-3f8a86a0ff5f
X-WR-CALDESC:On 1 June 1944\, perhaps the most famous jargon code message a
 nnounced the impending D-Day invasion. It was intercepted and recognized b
 y the German 15th Army\, but was ignored at higher headquarters. \n\n<b>Th
 e message read\, 'Les sanglots longs des violons de l'automne.'</b>\n\n<a 
 href='http://en.wikipedia.org/wiki/Chanson_d'automne' target='_blank'>'Cha
 nson d'automne' ('Autumn Song')</a> is a poem by Paul Verlaine\, one of th
 e best known in the French language. It is included in Verlaine's first co
 llection\, Poèmes saturniens (1866).\n\nThe first and second lines of the 
 poem (Les sanglots longs des violons de l'automne blessent mon coeur D'une
  langueur Monotone) were broadcast by the Allies in 1944 as a code message
  to the French Resistance in preparation for D-Day. When the second line w
 as broadcast over the radio waves\, it signaled that the invasion was to c
 ome in 24 hours.\n
X-WR-RELCALID:48f55457939bf2f6a66ef2416abf1800
X-WR-TIMEZONE:America/New_York
BEGIN:VTIMEZONE
TZID:America/New_York
BEGIN:STANDARD
TZNAME:EST
DTSTART:20251102T020000
TZOFFSETFROM:-0400
TZOFFSETTO:-0500
RDATE:20261101T020000
RDATE:20271107T020000
END:STANDARD
BEGIN:DAYLIGHT
TZNAME:EDT
DTSTART:20260308T020000
TZOFFSETFROM:-0500
TZOFFSETTO:-0400
RDATE:20270314T020000
END:DAYLIGHT
END:VTIMEZONE
BEGIN:VEVENT
UID:1a078650-7d44-41b1-9db8-5000dfd9db64
DTSTAMP:20260424T080155Z
DESCRIPTION:On 1 June 1944\, perhaps the most famous jargon code message an
 nounced the impending D-Day invasion. It was intercepted and recognized by
  the German 15th Army\, but was ignored at higher headquarters. \n\n<b>The
  message read\, 'Les sanglots longs des violons de l'automne.'</b>\n\n<a h
 ref='http://en.wikipedia.org/wiki/Chanson_d'automne' target='_blank'>'Chan
 son d'automne' ('Autumn Song')</a> is a poem by Paul Verlaine\, one of the
  best known in the French language. It is included in Verlaine's first col
 lection\, Poèmes saturniens (1866).\n\nThe first and second lines of the p
 oem (Les sanglots longs des violons de l'automne blessent mon coeur D'une 
 langueur Monotone) were broadcast by the Allies in 1944 as a code message 
 to the French Resistance in preparation for D-Day. When the second line wa
 s broadcast over the radio waves\, it signaled that the invasion was to co
 me in 24 hours.\n
DTSTART;TZID=America/New_York:20260601T000000
DTEND;TZID=America/New_York:20260601T235900
LOCATION:
SUMMARY:1944: Jargon Code Message Announced D-Day Invasion
END:VEVENT
END:VCALENDAR
