BEGIN:VCALENDAR
VERSION:2.0
PRODID:-//archive.cryptologicfoundation.org//NONSGML kigkonsult.se iCalcrea
 tor 2.30.10//
CALSCALE:GREGORIAN
METHOD:PUBLISH
UID:7fe25499-1a28-4b79-ab47-9b43240b7418
X-WR-CALDESC:5 June 1969: USAF RC-135E 'Rivet Amber' was lost over the Beri
 ng Sea.\n\nThe following information is excerpted from a <a href='http://w
 ww.spyflight.co.uk/rivet%20amber.htm' target='_blank' rel='noreferrer noop
 ener'>Report on the RC-135E 'Rivet Amber' - submitted by Ron Strong.</a>\n
 \nThe Rivet Amber had returned to Shemya AF Base\, Alaska in June 1969 aft
 er an operational flight. After landing\, inspection revealed extensive sk
 in damage to the tail section - to include the vertical stabilizer. Despit
 e objections by the maintenance crew\, the aircrew were ordered to fly the
  aircraft to Eielson AF Base\, Alaska for further inspection and any repai
 rs.\n\nOn 5 June 1969\, the Rivet Amber took off for Eielson AF Base and 4
 5 minutes into the flight\, declared a May Day\, reporting severe vibratio
 n. They were descending to a lower altitude. A second call reported no oth
 er information than the aircraft's call sign. A third call indicated the c
 rew was ordered to go to full oxygen. Tones from the HF transmitter contin
 ued to be detected for a period of time and then all contact was lost.\n\n
 A massive search of the area by Air and Sea assets found no trace of the R
 ivet Amber.\nThere were 19 crew and passengers on board: \nLtc. Charles B.
  Michaud \nMaj. Peter S. Carpenter \nMaj. Richard N. Martel \nCapt. Michae
 l E. Mills \nMaj. Horace G. Beasley \nMaj. Rudolph J. Meissner \nCapt. Jam
 es F. Ray \nM/Sgt. Herbert C. Gregory \nS/Sgt. Lester J. Schatz \nT/Sgt. D
 onald F. Wonders \nT/Sgt. Hervey Hebert \nT/Sgt. Charles F. Dreher \nS/Sgt
 . Robert W. Fox \nT/Sgt. Eugene L. Benevides \nS/Sgt. Roy L. Lindsey \nS/S
 gt. Richard J. Steen Jr. \nSgt. Douglas Arcano \nSgt. Sherman E. Consolver
  Jr. \nSgt. Lucian A. Rominiecki
X-WR-RELCALID:c9f0da9581ea02cd4776b6b791d0999c
X-WR-TIMEZONE:America/New_York
BEGIN:VTIMEZONE
TZID:America/New_York
BEGIN:STANDARD
TZNAME:EST
DTSTART:20251102T020000
TZOFFSETFROM:-0400
TZOFFSETTO:-0500
RDATE:20261101T020000
RDATE:20271107T020000
END:STANDARD
BEGIN:DAYLIGHT
TZNAME:EDT
DTSTART:20260308T020000
TZOFFSETFROM:-0500
TZOFFSETTO:-0400
RDATE:20270314T020000
END:DAYLIGHT
END:VTIMEZONE
BEGIN:VEVENT
UID:a3402b78-ee77-47fc-9163-0bef06489296
DTSTAMP:20260424T081851Z
DESCRIPTION:5 June 1969: USAF RC-135E 'Rivet Amber' was lost over the Berin
 g Sea.\n\nThe following information is excerpted from a <a href='http://ww
 w.spyflight.co.uk/rivet%20amber.htm' target='_blank' rel='noreferrer noope
 ner'>Report on the RC-135E 'Rivet Amber' - submitted by Ron Strong.</a>\n
 \nThe Rivet Amber had returned to Shemya AF Base\, Alaska in June 1969 aft
 er an operational flight. After landing\, inspection revealed extensive sk
 in damage to the tail section - to include the vertical stabilizer. Despit
 e objections by the maintenance crew\, the aircrew were ordered to fly the
  aircraft to Eielson AF Base\, Alaska for further inspection and any repai
 rs.\n\nOn 5 June 1969\, the Rivet Amber took off for Eielson AF Base and 4
 5 minutes into the flight\, declared a May Day\, reporting severe vibratio
 n. They were descending to a lower altitude. A second call reported no oth
 er information than the aircraft's call sign. A third call indicated the c
 rew was ordered to go to full oxygen. Tones from the HF transmitter contin
 ued to be detected for a period of time and then all contact was lost.\n\n
 A massive search of the area by Air and Sea assets found no trace of the R
 ivet Amber.\nThere were 19 crew and passengers on board: \nLtc. Charles B.
  Michaud \nMaj. Peter S. Carpenter \nMaj. Richard N. Martel \nCapt. Michae
 l E. Mills \nMaj. Horace G. Beasley \nMaj. Rudolph J. Meissner \nCapt. Jam
 es F. Ray \nM/Sgt. Herbert C. Gregory \nS/Sgt. Lester J. Schatz \nT/Sgt. D
 onald F. Wonders \nT/Sgt. Hervey Hebert \nT/Sgt. Charles F. Dreher \nS/Sgt
 . Robert W. Fox \nT/Sgt. Eugene L. Benevides \nS/Sgt. Roy L. Lindsey \nS/S
 gt. Richard J. Steen Jr. \nSgt. Douglas Arcano \nSgt. Sherman E. Consolver
  Jr. \nSgt. Lucian A. Rominiecki
DTSTART;TZID=America/New_York:20260605T000000
DTEND;TZID=America/New_York:20260605T235900
LOCATION:
SUMMARY:1969: USAF RC-135E 'Rivet Amber' was lost over the Bering Sea.
END:VEVENT
END:VCALENDAR
