BEGIN:VCALENDAR
VERSION:2.0
PRODID:-//archive.cryptologicfoundation.org//NONSGML kigkonsult.se iCalcrea
 tor 2.30.10//
CALSCALE:GREGORIAN
METHOD:PUBLISH
UID:7c3ad922-b58e-4c60-b089-cfb939f6d311
X-WR-CALDESC:8 June 1967: The USS Liberty\, a Navy/NGA SIGINT collection sh
 ip was attacked by Israeli air and sea forces. There were 34 Americans kil
 led and 173 wounded. The ship was patrolling in International waters durin
 g the Six-Day War\, and investigative reports indicate the Israeli forces 
 were aware this was an American ship. Israeli forces claimed they had mist
 aken the ship for the El Quseir\, an Egyptian horse carrier\, but accordin
 g to a 1981 NSA report on the incident\, the El Quseir 'was approximately 
 one-quarter of the Liberty's tonnage\, about one-half its length\, and off
 ered a radically different silhouette.' Israel apologized and paid monetar
 y compensation to the families of those killed and to those who were wound
 ed. Israel also agreed to a $6 million dollar settlement for the ship's da
 mages. The efforts of the Liberty's Captain and crew to keep her afloat\, 
 attend to the injured\, and save lives was unsurpassed in naval history. 
 \n\n<b>See below for a link to photos from the Museum's U.S.S. Liberty dis
 play\, which was part of the May 2017 Service and Sacrifice exhibit.</b>\n
 \nThe Foundation acquired a <b>rare USS Liberty shirt from a surviving USS
  Liberty crew member SSgt Bryce Lockwood</b>. The shirt has been autograph
 ed by a variety of individuals spanning several military efforts. The hist
 orical lineage of this t-shirt from WWII to Vietnam and the Cold War makes
  it an unusual artifact indeed. Learn about it via the link at the end of 
 the page.\n\nYou may also want to check out <b>A. Jay Cristol's book\, 'Th
 e Liberty Incident.'</b> The 2002 book\, which focuses on the question “di
 d the Israelis know they were attacking a U.S. ship\,' was written after 1
 7 years of extensive research to include data acquired from NSA through FO
 IA requests. Mr. Cristol donated several copies of his book to the NCMF. L
 earn about his book via the link below.\n\nLearn more about the USS Libert
 y via a collection of historical documents on the NSA website. See link be
 low.\n
X-WR-RELCALID:b718fdb4098026f1ab79c0e7e5200024
X-WR-TIMEZONE:America/New_York
BEGIN:VTIMEZONE
TZID:America/New_York
BEGIN:STANDARD
TZNAME:EST
DTSTART:20251102T020000
TZOFFSETFROM:-0400
TZOFFSETTO:-0500
RDATE:20261101T020000
RDATE:20271107T020000
END:STANDARD
BEGIN:DAYLIGHT
TZNAME:EDT
DTSTART:20260308T020000
TZOFFSETFROM:-0500
TZOFFSETTO:-0400
RDATE:20270314T020000
END:DAYLIGHT
END:VTIMEZONE
BEGIN:VEVENT
UID:8214427f-7479-426d-936c-03b32584bf73
DTSTAMP:20260424T081412Z
DESCRIPTION:8 June 1967: The USS Liberty\, a Navy/NGA SIGINT collection shi
 p was attacked by Israeli air and sea forces. There were 34 Americans kill
 ed and 173 wounded. The ship was patrolling in International waters during
  the Six-Day War\, and investigative reports indicate the Israeli forces w
 ere aware this was an American ship. Israeli forces claimed they had mista
 ken the ship for the El Quseir\, an Egyptian horse carrier\, but according
  to a 1981 NSA report on the incident\, the El Quseir 'was approximately o
 ne-quarter of the Liberty's tonnage\, about one-half its length\, and offe
 red a radically different silhouette.' Israel apologized and paid monetary
  compensation to the families of those killed and to those who were wounde
 d. Israel also agreed to a $6 million dollar settlement for the ship's dam
 ages. The efforts of the Liberty's Captain and crew to keep her afloat\, a
 ttend to the injured\, and save lives was unsurpassed in naval history. \n
 \n<b>See below for a link to photos from the Museum's U.S.S. Liberty displ
 ay\, which was part of the May 2017 Service and Sacrifice exhibit.</b>\n\n
 The Foundation acquired a <b>rare USS Liberty shirt from a surviving USS L
 iberty crew member SSgt Bryce Lockwood</b>. The shirt has been autographed
  by a variety of individuals spanning several military efforts. The histor
 ical lineage of this t-shirt from WWII to Vietnam and the Cold War makes i
 t an unusual artifact indeed. Learn about it via the link at the end of th
 e page.\n\nYou may also want to check out <b>A. Jay Cristol's book\, 'The 
 Liberty Incident.'</b> The 2002 book\, which focuses on the question “did 
 the Israelis know they were attacking a U.S. ship\,' was written after 17 
 years of extensive research to include data acquired from NSA through FOIA
  requests. Mr. Cristol donated several copies of his book to the NCMF. Lea
 rn about his book via the link below.\n\nLearn more about the USS Liberty 
 via a collection of historical documents on the NSA website. See link belo
 w.\n
DTSTART;TZID=America/New_York:20260608T060000
DTEND;TZID=America/New_York:20260608T060001
LOCATION:
SUMMARY:1967: USS Liberty attacked by Israeli forces.
END:VEVENT
END:VCALENDAR
