BEGIN:VCALENDAR
VERSION:2.0
PRODID:-//archive.cryptologicfoundation.org//NONSGML kigkonsult.se iCalcrea
 tor 2.30.10//
CALSCALE:GREGORIAN
METHOD:PUBLISH
UID:5d0edf3c-47df-49a6-bca2-9e64a65decef
X-WR-CALDESC:11 June 1941: Herbert O. Yardley was hired by the Canadian gov
 ernment to help set up a cryptologic section of Canada's National Research
  Council. Learn more about Yardley via the link below to 'The Many Lives o
 f Herbert O. Yardley' PDF.
X-WR-RELCALID:b62b96a73f947944fca7b72af1f9e6b8
X-WR-TIMEZONE:America/New_York
BEGIN:VTIMEZONE
TZID:America/New_York
BEGIN:STANDARD
TZNAME:EST
DTSTART:20251102T020000
TZOFFSETFROM:-0400
TZOFFSETTO:-0500
RDATE:20261101T020000
RDATE:20271107T020000
END:STANDARD
BEGIN:DAYLIGHT
TZNAME:EDT
DTSTART:20260308T020000
TZOFFSETFROM:-0500
TZOFFSETTO:-0400
RDATE:20270314T020000
END:DAYLIGHT
END:VTIMEZONE
BEGIN:VEVENT
UID:68fdf508-d0be-4e22-89df-3d3c41af0f4d
DTSTAMP:20260424T080759Z
DESCRIPTION:11 June 1941: Herbert O. Yardley was hired by the Canadian gove
 rnment to help set up a cryptologic section of Canada's National Research 
 Council. Learn more about Yardley via the link below to 'The Many Lives of
  Herbert O. Yardley' PDF.
DTSTART;TZID=America/New_York:20260611T000000
DTEND;TZID=America/New_York:20260611T235900
LOCATION:
SUMMARY:1941: Herbert O. Yardley hired by Canada's National Research Counci
 l.
END:VEVENT
END:VCALENDAR
