BEGIN:VCALENDAR
VERSION:2.0
PRODID:-//archive.cryptologicfoundation.org//NONSGML kigkonsult.se iCalcrea
 tor 2.30.10//
CALSCALE:GREGORIAN
METHOD:PUBLISH
UID:e5238ee5-3c07-424a-803a-5f024d8384ff
X-WR-CALDESC:On this date in 2014\, the national headquarters of the Bureau
  of Alcohol\, Tobacco\, Firearms\, and Explosives (ATF) named its auditori
 um for Elizebeth Smith Friedman. \n\nThe ATF honored Mrs. Friedman as Amer
 ica’s first federal law enforcement cryptologist and a pioneer in intellig
 ence-led policing. \n\nElizebeth Friedman was employed at various times by
  the U.S. Treasury Department’s Bureau of Prohibition and Bureau of Custom
 s\, the U.S. Army\, the U.S. Navy\, and the International Monetary Fund. S
 he served the nation as a cryptologist in both World Wars\, and in the per
 iod between she won distinction for her work on international drug and liq
 uor smuggling cases. \n\nLearn more about Elizebeth Smith Friedman via our
  Female Pioneers in Cryptology Page - see link below.
X-WR-RELCALID:85776c4781af58fc67a19aebd3a641bd
X-WR-TIMEZONE:America/New_York
BEGIN:VTIMEZONE
TZID:America/New_York
BEGIN:STANDARD
TZNAME:EST
DTSTART:20251102T020000
TZOFFSETFROM:-0400
TZOFFSETTO:-0500
RDATE:20261101T020000
RDATE:20271107T020000
END:STANDARD
BEGIN:DAYLIGHT
TZNAME:EDT
DTSTART:20260308T020000
TZOFFSETFROM:-0500
TZOFFSETTO:-0400
RDATE:20270314T020000
END:DAYLIGHT
END:VTIMEZONE
BEGIN:VEVENT
UID:6a3b1669-48c1-4fd1-976e-cbb829027bc8
DTSTAMP:20260424T080319Z
DESCRIPTION:On this date in 2014\, the national headquarters of the Bureau 
 of Alcohol\, Tobacco\, Firearms\, and Explosives (ATF) named its auditoriu
 m for Elizebeth Smith Friedman. \n\nThe ATF honored Mrs. Friedman as Ameri
 ca’s first federal law enforcement cryptologist and a pioneer in intellige
 nce-led policing. \n\nElizebeth Friedman was employed at various times by 
 the U.S. Treasury Department’s Bureau of Prohibition and Bureau of Customs
 \, the U.S. Army\, the U.S. Navy\, and the International Monetary Fund. Sh
 e served the nation as a cryptologist in both World Wars\, and in the peri
 od between she won distinction for her work on international drug and liqu
 or smuggling cases. \n\nLearn more about Elizebeth Smith Friedman via our 
 Female Pioneers in Cryptology Page - see link below.
DTSTART;TZID=America/New_York:20260617T060000
DTEND;TZID=America/New_York:20260617T060001
LOCATION:
SUMMARY:2014: ATF honors Elizebeth Friedman
END:VEVENT
END:VCALENDAR
