BEGIN:VCALENDAR
VERSION:2.0
PRODID:-//archive.cryptologicfoundation.org//NONSGML kigkonsult.se iCalcrea
 tor 2.30.10//
CALSCALE:GREGORIAN
METHOD:PUBLISH
UID:21266b6c-7cd1-4407-8d74-1d7ff5f4db96
X-WR-CALDESC:19 June 1934: President Roosevelt signed the Communications Ac
 t of 1934 that consolidated existing radio\, television\, and telephone re
 gulations and created the Federal Communications Commission (FCC) to overs
 ee all interstate and foreign communications. It was intended to streamlin
 e the regulatory process and expand affordable access to communication ser
 vices.\n\nThe bill also established regulatory standards for various types
  of communications\, including Title I services\, which are subject to loo
 ser restrictions\, and Title II services\, which fall under more rigorous 
 “common carrier” rules intended to protect equal access to these networks.
X-WR-RELCALID:60588e978ca2c487ce401200b1fd02ff
X-WR-TIMEZONE:America/New_York
BEGIN:VTIMEZONE
TZID:America/New_York
BEGIN:STANDARD
TZNAME:EST
DTSTART:20251102T020000
TZOFFSETFROM:-0400
TZOFFSETTO:-0500
RDATE:20261101T020000
RDATE:20271107T020000
END:STANDARD
BEGIN:DAYLIGHT
TZNAME:EDT
DTSTART:20260308T020000
TZOFFSETFROM:-0500
TZOFFSETTO:-0400
RDATE:20270314T020000
END:DAYLIGHT
END:VTIMEZONE
BEGIN:VEVENT
UID:56bca72f-2405-425b-8e33-adec1e53bf20
DTSTAMP:20260424T080721Z
DESCRIPTION:19 June 1934: President Roosevelt signed the Communications Act
  of 1934 that consolidated existing radio\, television\, and telephone reg
 ulations and created the Federal Communications Commission (FCC) to overse
 e all interstate and foreign communications. It was intended to streamline
  the regulatory process and expand affordable access to communication serv
 ices.\n\nThe bill also established regulatory standards for various types 
 of communications\, including Title I services\, which are subject to loos
 er restrictions\, and Title II services\, which fall under more rigorous “
 common carrier” rules intended to protect equal access to these networks.
DTSTART;TZID=America/New_York:20260619T000000
DTEND;TZID=America/New_York:20260619T235900
LOCATION:
SUMMARY:1934: Communications Act of 1934 signed by President Roosevelt
END:VEVENT
END:VCALENDAR
