BEGIN:VCALENDAR
VERSION:2.0
PRODID:-//archive.cryptologicfoundation.org//NONSGML kigkonsult.se iCalcrea
 tor 2.30.10//
CALSCALE:GREGORIAN
METHOD:PUBLISH
UID:8aaa6f65-26a7-46d3-91b2-99527af54ec4
X-WR-CALDESC:19 June 1963: US and USSR agreed to a 'hotline' between Moscow
  and Washington. It was a one-time tape/teletype system for which the Sovi
 ets and Americans exchanged compatible equipment. The original hotline wen
 t into use as a result of the Cuban Missile Crisis\, a few months before t
 he assassination of President John F. Kennedy. It was phased out in the ea
 rly 1980s and replaced by a computerized system. The encryption system\, E
 CTRRM\, was attached to the teletype and donated to the National Cryptolog
 ic Museum by Norway. A Norwegian company manufactured the system used by b
 oth ends of the Washington-Moscow link. It used a 5-hole punched paper tap
 e for its keying system. Notice the stamp on the side of the paper roll. I
 f unrolled for nefarious purposes\, the paper could not be rolled back wit
 h exactly the same tension and the stamp will be distorted. This simple te
 chnique provided a high level of security. \n\nJohn F. Kennedy became the 
 first U.S. president to have a direct line to the Kremlin in Moscow. The “
 hotline” was designed to facilitate communication between the president an
 d Soviet premier. However\, though the public perception of a 'Red Phone' 
 that went directly to Moscow is not exactly how the process worked. The 'h
 otline' would first involve a call to the Pentagon where the message would
  be typed into a teletype machine\, encoded\, and then transmitted. The me
 ssage would reach Moscow within minutes. Read the excerpt below to learn m
 ore.\n\nExcerpted from History.gov:\n\n'An article in <i>The New York Time
 s</i> described how the new system would work: Kennedy would relay a messa
 ge to the Pentagon via phone\, which would be immediately typed into a tel
 etype machine by operators at the Pentagon\, encrypted and fed into a tran
 smitter. The message could reach the Kremlin within minutes\, as opposed t
 o hours. Although a far cry from the instantaneous communication made poss
 ible by today’s cell phones and email\, the technology implemented in 1963
  was considered revolutionary and much more reliable and less prone to int
 erception than a regular trans-Atlantic phone call\, which had to be bounc
 ed between several countries before it reached the Kremlin.\n\nIn 1967\, P
 resident Lyndon B. Johnson became the first U.S. president to use the new 
 system during the Six Day War in the Middle East when he notified then-Sov
 iet Premier Alexei Kosygin that he was considering sending Air Force plane
 s into the Mediterranean.'
X-WR-RELCALID:3dfe07ed47e826ac09d351a109a6bea5
X-WR-TIMEZONE:America/New_York
BEGIN:VTIMEZONE
TZID:America/New_York
BEGIN:STANDARD
TZNAME:EST
DTSTART:20251102T020000
TZOFFSETFROM:-0400
TZOFFSETTO:-0500
RDATE:20261101T020000
RDATE:20271107T020000
END:STANDARD
BEGIN:DAYLIGHT
TZNAME:EDT
DTSTART:20260308T020000
TZOFFSETFROM:-0500
TZOFFSETTO:-0400
RDATE:20270314T020000
END:DAYLIGHT
END:VTIMEZONE
BEGIN:VEVENT
UID:51829129-ff3b-49ed-8258-d0e9765c3362
DTSTAMP:20260424T080624Z
DESCRIPTION:19 June 1963: US and USSR agreed to a 'hotline' between Moscow 
 and Washington. It was a one-time tape/teletype system for which the Sovie
 ts and Americans exchanged compatible equipment. The original hotline went
  into use as a result of the Cuban Missile Crisis\, a few months before th
 e assassination of President John F. Kennedy. It was phased out in the ear
 ly 1980s and replaced by a computerized system. The encryption system\, EC
 TRRM\, was attached to the teletype and donated to the National Cryptologi
 c Museum by Norway. A Norwegian company manufactured the system used by bo
 th ends of the Washington-Moscow link. It used a 5-hole punched paper tape
  for its keying system. Notice the stamp on the side of the paper roll. If
  unrolled for nefarious purposes\, the paper could not be rolled back with
  exactly the same tension and the stamp will be distorted. This simple tec
 hnique provided a high level of security. \n\nJohn F. Kennedy became the f
 irst U.S. president to have a direct line to the Kremlin in Moscow. The “h
 otline” was designed to facilitate communication between the president and
  Soviet premier. However\, though the public perception of a 'Red Phone' t
 hat went directly to Moscow is not exactly how the process worked. The 'ho
 tline' would first involve a call to the Pentagon where the message would 
 be typed into a teletype machine\, encoded\, and then transmitted. The mes
 sage would reach Moscow within minutes. Read the excerpt below to learn mo
 re.\n\nExcerpted from History.gov:\n\n'An article in <i>The New York Times
 </i> described how the new system would work: Kennedy would relay a messag
 e to the Pentagon via phone\, which would be immediately typed into a tele
 type machine by operators at the Pentagon\, encrypted and fed into a trans
 mitter. The message could reach the Kremlin within minutes\, as opposed to
  hours. Although a far cry from the instantaneous communication made possi
 ble by today’s cell phones and email\, the technology implemented in 1963 
 was considered revolutionary and much more reliable and less prone to inte
 rception than a regular trans-Atlantic phone call\, which had to be bounce
 d between several countries before it reached the Kremlin.\n\nIn 1967\, Pr
 esident Lyndon B. Johnson became the first U.S. president to use the new s
 ystem during the Six Day War in the Middle East when he notified then-Sovi
 et Premier Alexei Kosygin that he was considering sending Air Force planes
  into the Mediterranean.'
DTSTART;TZID=America/New_York:20260619T000000
DTEND;TZID=America/New_York:20260619T235900
LOCATION:
SUMMARY:1963: US-USSR agreed to 'hotline.'
END:VEVENT
END:VCALENDAR
